BEGIN:VCALENDAR
PRODID:NingEventWidget-v1
VERSION:2.0
METHOD:PUBLISH
BEGIN:VEVENT
UID:4320450:Event:38648
DTSTAMP:20260425T125036Z
SUMMARY:Halloweekend in Manayunk
DESCRIPTION:Come for the thrill of it! A day filled with activities fo
 r children and adults alike; Manayunk offers a fun and safe way to cel
 ebrate Halloween! From trick-or-treating along Main Street and a costu
 me parade, to the Philadelphia Flea Market and Zombie Thriller Dance O
 ff, Manayunk offers a variety of activities for families to celebrate 
 the holiday! Here’s a timeline of everything that’s going on durin
 g Manayunk’s Halloweekend!\nThursday, October 23rd\n\n7:00 pm: Splat
 ter, one act psychological thriller at Bourbon Blue. $15 tickets ahead
  of time.\n\nFriday, October 24th\n\n11:30 am: Haunted Chewy Philly Fo
 od Tours – Information and tickets here: http://www.zerve.com/chewph
 illy/haunted *additional dates for food tour\n6:30 pm: Halloween Famil
 y Movie Night at Venice Island Performing Arts & Recreation Center\n\n
 Saturday, October 25th\n\n8 am-4 pm: Philadelphia Flea Market from Rec
 tor to Lock St.\n12:00-4:00 pm: Trick or Treating along Main Street  
 – Follow the scarecrows and fill your candy bag!\n12:30-6:00 pm: Fal
 l Festival in Pretzel Park\n1:00 pm: Doggie and Kid Costume Parade\n2:
 00 pm: BYOP – Bring your own carved pumpkin to be judged & win a MNY
 K prize package!\n3:00 pm: Zombie Thriller Dance Off – Learn the mov
 es and dress in your zombie best and win cash prizes!\n6:00 pm: Hallow
 een Fire – Watch as we light barrels floating along the Manayunk can
 al.\n\nCheck Manayunk.com for more details and updates about all Hallo
 ween events happening in Manayunk!\n\nFor more information visit http:
 //phillytodo.com/events/halloweekend-in-manayunk-1
DTSTART:20141023T230000Z
DTEND:20141025T220000Z
CATEGORIES:halloween, family
LOCATION:Main Street Manayunk
WEBSITE:http://www.manayunk.com
URL:http://www.manayunk.com
CONTACT:(215) 482-9565
ORGANIZER;CN="Manayunk Development Corporation":http://phillytodo.com/
 profile/ManayunkDevelopmentCorporation512
ATTACH;FMTTYPE="image/jpeg":http://storage.ning.com/topology/rest/1.0/
 file/get/3054981348?profile=original
ATTENDEE;ROLE=REQ-PARTICIPANT;PARTSTAT=ACCEPTED;RSVP=TRUE;CN="Manayunk
  Development Corporation":http://phillytodo.com/profile/ManayunkDevelo
 pmentCorporation512
END:VEVENT
END:VCALENDAR
