BEGIN:VCALENDAR
PRODID:NingEventWidget-v1
VERSION:2.0
METHOD:PUBLISH
BEGIN:VEVENT
UID:4320450:Event:726
DTSTAMP:20260425T185517Z
SUMMARY:Halfway to MTV Jersey Shore STAFF Official Afterparty @ O.N.E.
DESCRIPTION:ATTN: KAC Members & Guests\nTHIS IS THE HALF WAY TO THE JE
 RSEY SHORE OFFICIAL AFTER PARTY\n\nAS YOU ALL KNOW MCFADDENS IS HOLDIN
 G THE OFFICIAL PARTY AND NOW WE ARE GIVING YOU AN AFTER HOURS EVENT TO
  KEEP THE FIST PUMPING GOING UNTIL 3:30AM........ BOTH RONNIE AND SAMM
 I FROM THE CAST WILL BE @ O.N.E AFTER THE McFADDENS EVENT PARTYING IT 
 UP AND HAVIN SOME FUN JERSEY SHORE STYLE @ THE HOTTEST AFTER HOURS VEN
 UE IN THE CITY.\n\n3 Ticket Types:\nGeneral Admission: $10 BEFORE 12AM
  and INCLUDES A FREE 3 OLIVES DRINK\nOpen Bar: $ 35 9-12\nV.I.P: $ 100
  per person = Bottle of either Ketel, Captain, Tanqueray, Cuervo, Jack
 \n\nDj's Netto, Adrian Hardy, Manny Romano, Chris Costanzo will be roc
 king the club all night until 3:30 A.M.!!!!\nFOR INFO EMAIL info@oneat
 rittenhouse.com\nO.N.E.\n\nTo PURCHASE TICKETS:\nhttp://officialafterp
 artyjerseyshore-kidrocco.eventbrite.com/\n\n121 South 19th Street\nPhi
 ladelphia, PA 19103\n(215) 563-1038\n\nFor more information visit http
 ://phillytodo.com/events/halfway-to-mtv-jersey-shore
DTSTART:20100123T020000Z
DTEND:20100123T083000Z
CATEGORIES:theme, party
LOCATION:O.N.E. at Rittenhouse
WEBSITE:http://officialafterpartyjerseyshore-kidrocco.eventbrite.com/
URL:http://officialafterpartyjerseyshore-kidrocco.eventbrite.com/
CONTACT:(215) 563-1038
ORGANIZER;CN="Chris Twardy":http://phillytodo.com/profile/ChrisTwardy
ATTACH;FMTTYPE="image/jpeg":http://storage.ning.com/topology/rest/1.0/
 file/get/3054943620?profile=original
ATTENDEE;ROLE=REQ-PARTICIPANT;PARTSTAT=ACCEPTED;RSVP=TRUE;CN="Chris Tw
 ardy":http://phillytodo.com/profile/ChrisTwardy
ATTENDEE;ROLE=REQ-PARTICIPANT;PARTSTAT=TENTATIVE;RSVP=TRUE;CN=Damian:h
 ttp://phillytodo.com/profile/Damian
ATTENDEE;ROLE=REQ-PARTICIPANT;PARTSTAT=TENTATIVE;RSVP=TRUE;CN="Jennife
 r Holdren":http://phillytodo.com/profile/JenniferHoldren
END:VEVENT
END:VCALENDAR
