BEGIN:VCALENDAR
PRODID:NingEventWidget-v1
VERSION:2.0
METHOD:PUBLISH
BEGIN:VEVENT
UID:4320450:Event:841
DTSTAMP:20260425T125814Z
SUMMARY:Haiti Fundraiser :: Yoga Class at Dhyana Yoga West Philly
DESCRIPTION:Please join us as we support Wyclef Jean (of the Fugees) a
 nd his organization Yele Haiti. A Yoga class will be offered from 8-9:
 30pm will all proceeds benefiting www.yele.org. Donations in all amoun
 ts greatly appreciated, any donations over $50 will enter you into a r
 affle to win a FREE THREE MONTH UNLIMITED PASS to all DY locations (ov
 er 125 classes a week). Donations can be made at the studio even if yo
 u can't make it Monday night, our goal is $5000!\n\nFor more informati
 on visit http://phillytodo.com/events/haiti-fundraiser-yoga-class
DTSTART:20100126T010000Z
DTEND:20100126T023000Z
CATEGORIES:haiti, fundraiser
LOCATION:40th & Chestnut (The Hub Building) enter on 40th next to Dist
 rito
WEBSITE:http://www.dhyana-yoga.com
URL:http://www.dhyana-yoga.com
CONTACT:215-222-YOGA
ORGANIZER;CN="Dhyana Yoga":http://phillytodo.com/profile/DhyanaYoga
ATTACH;FMTTYPE="image/jpeg":http://storage.ning.com/topology/rest/1.0/
 file/get/3054945706?profile=original
ATTENDEE;ROLE=REQ-PARTICIPANT;PARTSTAT=ACCEPTED;RSVP=TRUE;CN="Dhyana Y
 oga":http://phillytodo.com/profile/DhyanaYoga
END:VEVENT
END:VCALENDAR
