BEGIN:VCALENDAR
PRODID:NingEventWidget-v1
VERSION:2.0
METHOD:PUBLISH
BEGIN:VEVENT
UID:4320450:Event:35378
DTSTAMP:20260425T150738Z
SUMMARY:Hair of the Dog Brunch
DESCRIPTION:Recover on New Year's Day with Brunch at The Victoria Free
 house. $10 Full English Breakfasts, $10 Bacon Pancakes with fried eggs
 , herbed butter, and maple bacon candy, $5 Bloody Marys, $5 Mimosas.\n
 \nFor more information visit http://phillytodo.com/events/hair-of-the-
 dog-brunch
DTSTART:20140101T150000Z
DTEND:20140101T210000Z
CATEGORIES:new, "year's", day, brunch
LOCATION:The Victoria Freehouse
WEBSITE:http://www.victoriafreehouse.com
URL:http://www.victoriafreehouse.com
CONTACT:(215) 543-6089
ORGANIZER;CN="Punch Media":http://phillytodo.com/profile/PunchMedia
ATTACH;FMTTYPE="image/jpeg":http://storage.ning.com/topology/rest/1.0/
 file/get/3054970939?profile=original
ATTENDEE;ROLE=REQ-PARTICIPANT;PARTSTAT=ACCEPTED;RSVP=TRUE;CN="Punch Me
 dia":http://phillytodo.com/profile/PunchMedia
END:VEVENT
END:VCALENDAR
