BEGIN:VCALENDAR
PRODID:NingEventWidget-v1
VERSION:2.0
METHOD:PUBLISH
BEGIN:VEVENT
UID:4320450:Event:760
DTSTAMP:20260425T155842Z
SUMMARY:HAIR OF THE DOG AFTERPARTY
DESCRIPTION:Zee Bar is the Official Hair of the Dog Afterparty!!\n\nPa
 rty til the Bark of Dawn....Yes that does mean 6am!\n\nFree Admission 
 with your Hair of the Dog VIP ticket.\n\nCome party at the only all - 
 night extravaganza in the city!!\n\nFor more information visit http://
 phillytodo.com/events/hair-of-the-dog-afterparty
DTSTART:20100117T030000Z
DTEND:20100117T080000Z
CATEGORIES:club, party
LOCATION:Zee Bar Private Social Club
WEBSITE:http://www.zee-bar.com
URL:http://www.zee-bar.com
CONTACT:215-922-2994
ORGANIZER;CN="Zee Bar Private Social Club":http://phillytodo.com/profi
 le/ZeeBarPrivateSocialClub
ATTACH;FMTTYPE="image/jpeg":http://storage.ning.com/topology/rest/1.0/
 file/get/2990817293?profile=original
ATTENDEE;ROLE=REQ-PARTICIPANT;PARTSTAT=ACCEPTED;RSVP=TRUE;CN="Zee Bar 
 Private Social Club":http://phillytodo.com/profile/ZeeBarPrivateSocial
 Club
END:VEVENT
END:VCALENDAR
