BEGIN:VCALENDAR
PRODID:NingEventWidget-v1
VERSION:2.0
METHOD:PUBLISH
BEGIN:VEVENT
UID:4320450:Event:34987
DTSTAMP:20260425T175648Z
SUMMARY:Hair O' the Dog Presents CARNAVAL: A Night Filled with Desire
DESCRIPTION:Brazil’s CARNAVAL is one of the most sensual events in t
 he world as women dancing in the streets are worshipped like goddesses
  by millions of people. This year Hair O’ The Dog, City Fitness and 
 One Up Events are bringing the same level of illustrious sexuality to 
 the all new Vanity Nightclub! This will be a night of drinking and dan
 cing as inhibitions are left behind. This all new Philadelphia Nightli
 fe experience is designed to keep you entertained through sight, sound
  and intimacy. 3 bars with one being over 40 feet long ensure that you
  won’t waste your time waiting in line for a drink, a brand new soun
 d system that can house the world’s top tier DJs, enough seating for
  general admission and VIP’s alike so you can spend your night getti
 ng closer to that special someone and a VIP mezzanine that gives the P
 hiladelphia elite a place to look over the crowd or snuggle up in soli
 tude.\n\n\nFor more information visit http://phillytodo.com/events/hai
 r-o-the-dog-presents-carnaval-a-night-filled-with-desire
DTSTART:20131124T030000Z
DTEND:20131124T060000Z
CATEGORIES:night, life
LOCATION:Vanity Nightclub
WEBSITE:http://www.partyatvanity.com/
URL:http://www.partyatvanity.com/
CONTACT:2672892970
ORGANIZER:Hair O' the Dog
ATTACH;FMTTYPE="image/jpeg":http://storage.ning.com/topology/rest/1.0/
 file/get/3054973052?profile=original
ATTENDEE;ROLE=REQ-PARTICIPANT;PARTSTAT=ACCEPTED;RSVP=TRUE;CN="Jenna Co
 mmunications":http://phillytodo.com/profile/JennaCommunications
END:VEVENT
END:VCALENDAR
