BEGIN:VCALENDAR
PRODID:NingEventWidget-v1
VERSION:2.0
METHOD:PUBLISH
BEGIN:VEVENT
UID:4320450:Event:35068
DTSTAMP:20260425T130622Z
SUMMARY:Hair O' The Dog
DESCRIPTION:Get ready to step back into a time of flappers, pearls, zo
 ot suits, whisky and vintage gin cocktails! On Saturday, January 18, P
 arx Casino proudly presents: The 20th Annual Hair O' The Dog, Philadel
 phia's Swankiest Black Tie Affair. Join Philly’s finest for a “Gat
 sby-Inspired” evening of excitement at the Sheraton Center City and 
 “Let the Good Times Roar.\" This highly anticipated affair will set 
 an all-new precedent for the gala, with a DJ set and live performance 
 by Havana Brown, a certified triple platinum artist best known for her
  debut smash hit, “We Run the Night”, featuring Pitbull. In additi
 on to Havana Brown, local star and winner of Philly Hot List’s best 
 DJ award, DJ Perry Angelozzi, will be spinning along with Hair O’ Th
 e Dog founder, DJ DSC aka Dan Cronin. Other live performances include 
 local-sensation Jade Starling of Pretty Poison, who will perform her a
 ll-new hit, “Insomniak”, the band The Business and Bryen O’Boyle
  of Mr. Greenjeans. A portion of the proceeds from this year’s event
  will benefit the Claddagh Fund, founded by Ken Casey of the Dropkick 
 Murphy’s, to help underfunded nonprofits make a greater impact in vu
 lnerable communities. To purchase tickets for The Hair O’ The Dog, v
 isit http://hairothedog.ticketleap.com/hodthebig20/t/jennacomm/ Catch
  an exciting sneak preview here: http://vimeo.com/83323897\n\nFor mor
 e information visit http://phillytodo.com/events/hair-o-the-dog-1
DTSTART:20140119T020000Z
DTEND:20140119T063000Z
CATEGORIES:black, tie, gala
LOCATION:Sheraton Center City
WEBSITE:http://www.hairothedog.com/
URL:http://www.hairothedog.com/
CONTACT:
ORGANIZER;CN="Jenna Communications":http://phillytodo.com/profile/Jenn
 aCommunications
ATTACH;FMTTYPE="image/jpeg":http://storage.ning.com/topology/rest/1.0/
 file/get/3054969950?profile=original
ATTENDEE;ROLE=REQ-PARTICIPANT;PARTSTAT=ACCEPTED;RSVP=TRUE;CN="Jenna Co
 mmunications":http://phillytodo.com/profile/JennaCommunications
END:VEVENT
END:VCALENDAR
