BEGIN:VCALENDAR
PRODID:NingEventWidget-v1
VERSION:2.0
METHOD:PUBLISH
BEGIN:VEVENT
UID:4320450:Event:629
DTSTAMP:20260425T173457Z
SUMMARY:Hacina's Girls Dinner
DESCRIPTION:My dinners are usually for fun only but why don't we add a
  little good cause to it?\nI am grateful to all of you that always try
  to make it besides some circumstances.\nThis time the dinner is just 
 a little more expensive just because 30 dollars will go to the orphana
 ges in Colombia for the kids in needs. (champagne and snow ball founda
 tion)\nSo please try to attend this dinner with all you heart.\nIt is 
 going to be a 4 courses dinner(appetizer, entree, cheese and dessert+ 
 wine for each courses).\nThe total price is $100 and remember $30 is f
 or charity:)\nHope most of you can make it...\n\nFor more information 
 visit http://phillytodo.com/events/hacinas-girls-dinner
DTSTART:20100121T000000Z
DTEND:20100121T030000Z
CATEGORIES:fundaiser, girls, dinner, "party."
LOCATION:Le bec fin
WEBSITE:
URL:
CONTACT:2154322317
ORGANIZER;CN="Hacina Saadi":http://phillytodo.com/profile/HacinaSaadi
ATTACH;FMTTYPE="image/jpeg":http://storage.ning.com/topology/rest/1.0/
 file/get/3054943317?profile=original
ATTENDEE;ROLE=REQ-PARTICIPANT;PARTSTAT=ACCEPTED;RSVP=TRUE;CN="Hacina S
 aadi":http://phillytodo.com/profile/HacinaSaadi
END:VEVENT
END:VCALENDAR
