BEGIN:VCALENDAR
PRODID:NingEventWidget-v1
VERSION:2.0
METHOD:PUBLISH
BEGIN:VEVENT
UID:4320450:Event:2475
DTSTAMP:20260425T155154Z
SUMMARY:Gun Disarms for Defense and Law Enforcement
DESCRIPTION:A variety of handgun disarms against single and multiple a
 ttackers. All content will begin with basics and move on to advanced c
 oncepts, concluding with fine-tuning through force on force drills. Pr
 evious experience helpful but not required.\n\nAt the end of this day-
 long course you will have knowledge of:\n- Defenses against handguns f
 rom a avariety of ranges including kneeling, third party and hostage s
 ituations\n- Techniques and strategies for single and multiple opponen
 ts\n- Successfully avoiding the line of fire\n- Effective positioning 
 and quick, efficient movements\nClass sizes are small, so you benefit 
 from individual attention from an experienced instructor. Sign up now,
  as space is limited.\n\nSept. 25, 9am-6pm (includes breaks and lunch)
 \nPractice Weapon is included in the class fee.\n$100 if registered by
  September 12th\n$115 after September 12\n$125 day-of registration, if
  available\n\nPuclic transportation and parking available.\nSign up on
 line at http://www.modernkenjutsu.com/Store.php\n\nFor more informatio
 n visit http://phillytodo.com/events/gun-disarms-for-defense-and
DTSTART:20100925T130000Z
DTEND:20100925T220000Z
CATEGORIES:seminar, "martial arts"
LOCATION:Hidden Grove Dojo
WEBSITE:http://www.modernkenjutsu.com/Dojo.php
URL:http://www.modernkenjutsu.com/Dojo.php
CONTACT:267-258-1962
ORGANIZER;CN="Modern Kenjutsu":http://phillytodo.com/profile/ModernKen
 jutsu
ATTACH;FMTTYPE="image/jpeg":http://storage.ning.com/topology/rest/1.0/
 file/get/3054950894?profile=original
ATTENDEE;ROLE=REQ-PARTICIPANT;PARTSTAT=ACCEPTED;RSVP=TRUE;CN="Modern K
 enjutsu":http://phillytodo.com/profile/ModernKenjutsu
END:VEVENT
END:VCALENDAR
