BEGIN:VCALENDAR
PRODID:NingEventWidget-v1
VERSION:2.0
METHOD:PUBLISH
BEGIN:VEVENT
UID:4320450:Event:3757
DTSTAMP:20260425T141438Z
SUMMARY:Gun Disarms for Defense and Law Enforcement
DESCRIPTION:Your attacker has a gun. Are you prepared?\n\nSaturday Dec
 ember 11th & 18th, 2010 from 1-5pm\n\nAt the end of this 2-week course
  you will have knowledge of a variety of handgun disarms and defenses 
 from various ranges. Previous experience may be helpful, but not requi
 red. All content will begin with basics and move to advanced concepts,
  concluding with fine-tuning through force-on-force drills.\n\nAt the 
 end of this day-long course you will have knowledge of:\n- Defenses ag
 ainst handguns from a variety of ranges including kneeling, third part
 y and hostage situations\n- Techniques and strategies for single and m
 ultiple opponents\n- Successfully avoiding the line of fire\n- Effecti
 ve positioning and quick, efficient movements\n\nClass sizes are small
 , so you benefit from individual attention from an experienced instruc
 tor. Sign up now, as space is limited!\n\nRegistration Fees:\nYour own
  practice weapon is included in the class fee.\n$100 if registered by 
 Nov. 18th\n$115 after Nov. 18th\n$125 day-of registration\n\nPublic Tr
 ansportation available through the 18 or 24 Bus or the R8 train. Parki
 ng available on premises.\n\nFor more information visit http://phillyt
 odo.com/events/gun-disarms-for-defense-and-1
DTSTART:20101211T180000Z
DTEND:20101218T220000Z
CATEGORIES:seminar, "martial arts", gun, "self defense"
LOCATION:Hidden Grove Dojo, Philadelphia School of Modern Kenjutsu and
  Aikijujutsu
WEBSITE:http://www.modernkenjutsu.com/Dojo.php
URL:http://www.modernkenjutsu.com/Dojo.php
CONTACT:267-258-1962
ORGANIZER;CN="Modern Kenjutsu":http://phillytodo.com/profile/ModernKen
 jutsu
ATTACH;FMTTYPE="image/jpeg":http://storage.ning.com/topology/rest/1.0/
 file/get/3054950894?profile=original
ATTENDEE;ROLE=REQ-PARTICIPANT;PARTSTAT=ACCEPTED;RSVP=TRUE;CN="Modern K
 enjutsu":http://phillytodo.com/profile/ModernKenjutsu
END:VEVENT
END:VCALENDAR
