BEGIN:VCALENDAR
PRODID:NingEventWidget-v1
VERSION:2.0
METHOD:PUBLISH
BEGIN:VEVENT
UID:4320450:Event:56256
DTSTAMP:20260425T130927Z
SUMMARY:Guided Meditation Retreat The Path to Bliss: Meditations to Gu
 ide Us Along the Path to Happiness
DESCRIPTION:Modern life is very busy and complicated. On this day, we 
 will slow down and enjoy some peace and quiet in the city. Gen Tenzin 
 will share time-honored meditations to fill our hearts with calm and p
 ositive energy. The sessions will be guided and questions, and answers
  will be addressed at the end of each session. Please feel free to dro
 p in on this day of healing and relaxation.\nAll sessions are unique a
 nd self-contained. Feel free to join any session.\nEveryone is welcome
 .\nSessions:10:30-11:30am12:30-1:30pm3:00-4:00pm5:00-6:00pm\nCost: $5/
 session or $15/all four.\n\nFor more information visit http://phillyto
 do.com/events/guided-meditation-retreat-the-path-to-bliss-meditations-
 to-guide
DTSTART:20180922T143000Z
DTEND:20180922T220000Z
CATEGORIES:meditation, buddhism, mindfulness, wellness, buddhist
LOCATION:Kadampa Meditation Center Philadelphia
WEBSITE:http://www.meditationinphiladelphia.org/guided-meditation-retr
 eat-the-path-to-bliss-meditations-to-guide-us-along-the-path-to-happin
 ess-with-gen-tenzin-sept-22/
URL:http://www.meditationinphiladelphia.org/guided-meditation-retreat-
 the-path-to-bliss-meditations-to-guide-us-along-the-path-to-happiness-
 with-gen-tenzin-sept-22/
CONTACT:267-702-3817
ORGANIZER;CN="Education Program Coordinator":http://phillytodo.com/pro
 file/EducationProgramCoordinator
ATTACH;FMTTYPE="image/jpeg":
ATTENDEE;ROLE=REQ-PARTICIPANT;PARTSTAT=ACCEPTED;RSVP=TRUE;CN="Educatio
 n Program Coordinator":http://phillytodo.com/profile/EducationProgramC
 oordinator
END:VEVENT
END:VCALENDAR
