BEGIN:VCALENDAR
PRODID:NingEventWidget-v1
VERSION:2.0
METHOD:PUBLISH
BEGIN:VEVENT
UID:4320450:Event:60402
DTSTAMP:20260425T123400Z
SUMMARY:Guided Buddhist Meditation
DESCRIPTION:Everyone wishes to be happy all the time, but we cannot ac
 hieve this goal unless we attain lasting inner peace. In this class, w
 e will learn basic meditation techniques and Buddhist advice that can 
 help us to become happy and peaceful from within.\nEach class includes
  two guided meditations and a teaching on a Buddhist topic. All are we
 lcome afterwards for tea and conversation.\nEveryone is welcome. No me
 ditation experience is necessary.\n$15 per class.\nCurrent Series:\nBe
  Happy Through Meditation  Jan 14 – Deepening Your Experience of Med
 itation: The Practice of Retreat Jan 21 – Exploring the Benefits of 
 Meditation: What is Liberation? What is Enlightenment? Jan 28 – Disc
 overing the Joy of Discipline: Establishing a Daily Meditation Practic
 e\nFeb 4 – Overcoming the Obstacles to Deep Meditation Feb 11 – Pr
 ogressing in Meditation: Attaining Tranquil Abiding Feb 18 – Using M
 editation to Solve Relationship Problems Feb 25 – Using Meditation t
 o Solve Our Anger Problem\nMarch 3 – Using Meditation to Heal Addict
 ions March 10 – Healing Parental Relationships: Overcoming Resentmen
 t March 17 – How to Be Successful and Stay Kind\n\nFor more informat
 ion visit http://phillytodo.com/events/guided-buddhist-meditation
DTSTART:20200204T230000Z
DTEND:20200205T001500Z
CATEGORIES:meditation, buddhism, mindfulness, wellness, buddhist
LOCATION:Kadampa Meditation Center Philadelphia
WEBSITE:https://www.meditationinphiladelphia.org/premier-weekly-class-
 on-tuesdays/
URL:https://www.meditationinphiladelphia.org/premier-weekly-class-on-t
 uesdays/
CONTACT:267-702-3817
ORGANIZER;CN="Education Program Coordinator":http://phillytodo.com/pro
 file/EducationProgramCoordinator
ATTACH;FMTTYPE="image/jpeg":https://storage.ning.com/topology/rest/1.0
 /file/get/3825669307?profile=original
ATTENDEE;ROLE=REQ-PARTICIPANT;PARTSTAT=ACCEPTED;RSVP=TRUE;CN="Educatio
 n Program Coordinator":http://phillytodo.com/profile/EducationProgramC
 oordinator
END:VEVENT
END:VCALENDAR
