BEGIN:VCALENDAR
PRODID:NingEventWidget-v1
VERSION:2.0
METHOD:PUBLISH
BEGIN:VEVENT
UID:4320450:Event:46981
DTSTAMP:20260425T125341Z
SUMMARY:Guards at the Taj by Rajiv Joseph
DESCRIPTION:Theatre Exile presents the Philadelphia premiere of Guards
  at the Taj, by Pulitzer Prize Finalist Rajiv Joseph, from October 20 
 through November 13, 2016, at Studio X (1340 S. 13th Street). Directed
  by Deborah Block, this play takes place in 1648 India and follows two
  Imperial Guards as they watch the sunrise for the first time on the n
 ewly-completed Taj Mahal. When they are ordered to perform an unthinka
 ble task, the aftermath forces them to question the concepts of friend
 ship, beauty, and duty, and it changes them forever. Tickets are on sa
 le now for $10 to $50 by visiting www.theatreexile.org or calling 215-
 218-4022.\n\nFor more information visit http://phillytodo.com/events/g
 uards-at-the-taj-by-rajiv-joseph
DTSTART:20161020T230000Z
DTEND:20161113T220000Z
CATEGORIES:play
LOCATION:Studio X
WEBSITE:http://boxoffice.printtixusa.com/theatreexilenew/eventcalendar
URL:http://boxoffice.printtixusa.com/theatreexilenew/eventcalendar
CONTACT:(215) 218-4022
ORGANIZER;CN="Aversa PR & Events":http://phillytodo.com/profile/KoryAv
 ersa277
ATTACH;FMTTYPE="image/jpeg":http://storage.ning.com/topology/rest/1.0/
 file/get/3054998438?profile=original
ATTENDEE;ROLE=REQ-PARTICIPANT;PARTSTAT=ACCEPTED;RSVP=TRUE;CN="Aversa P
 R & Events":http://phillytodo.com/profile/KoryAversa277
END:VEVENT
END:VCALENDAR
