BEGIN:VCALENDAR
PRODID:NingEventWidget-v1
VERSION:2.0
METHOD:PUBLISH
BEGIN:VEVENT
UID:4320450:Event:35901
DTSTAMP:20260425T191624Z
SUMMARY:Grow Your Own Mushrooms Workshop with Mycopolitan Mushroom Com
 pany
DESCRIPTION:Registration Required. Tyler Case and Brian Versek from My
 copolitan Mushroom Company come to Greensgrow to talk mushrooms! The w
 orkshop will focus on the skills and materials necessary to start grow
 ing delicious and medicinal mushrooms at home. They will introduce you
  to the important roles of Fungi in nature, and discuss mushroom cooki
 ng tips too.\nEveryone will receive an oyster mushroom grow bag to sta
 rt growing at home. The kit features a local oyster mushroom strain gr
 own on straw, coffee and rye.  Properly maintained, the kit will yiel
 d up to 2 pounds of delicious oyster mushrooms over a 1-2 month period
 . Included is everything you'll need to grow mushrooms at home: a spra
 y bottle, humidity bag, instruction sheet and ongoing email support fr
 om Mycopolitan farmers.\nTyler and Brian have established Mycopolitan 
 Mushroom Company, Philly's first urban mushroom farm, which intends to
  serve local restaurants and markets with gourmet mushrooms while rese
 arching new exotic varieties and methods for improving agricultural sy
 stems and supporting local hobby growers.\nRegister: http://www.greens
 grow.org/event/grow-your-own-mushrooms-workshop-with-mycopolitan-mushr
 oom-company/\n\nFor more information visit http://phillytodo.com/event
 s/grow-your-own-mushrooms-workshop-with-mycopolitan-mushroom
DTSTART:20140329T160000Z
DTEND:20140329T180000Z
CATEGORIES:gardening, workshop
LOCATION:Greensgrow Farms
WEBSITE:http://www.greensgrow.org
URL:http://www.greensgrow.org
CONTACT:215-427-2780
ORGANIZER;CN="Greensgrow Farms":http://phillytodo.com/profile/Greensgr
 owFarms
ATTACH;FMTTYPE="image/jpeg":
ATTENDEE;ROLE=REQ-PARTICIPANT;PARTSTAT=ACCEPTED;RSVP=TRUE;CN="Greensgr
 ow Farms":http://phillytodo.com/profile/GreensgrowFarms
END:VEVENT
END:VCALENDAR
