BEGIN:VCALENDAR
PRODID:NingEventWidget-v1
VERSION:2.0
METHOD:PUBLISH
BEGIN:VEVENT
UID:4320450:Event:52643
DTSTAMP:20260425T130959Z
SUMMARY:Grow Your Own Mushrooms Workshop with Mycopolitan Mushroom Com
 pany
DESCRIPTION:Registration Required. Tyler Case and Brian Versek from My
 copolitan Mushroom Company come to Greensgrow to talk mushrooms! The w
 orkshop will focus on the skills, thought processes, and materials nec
 essary to start growing delicious mushrooms at home. They will introdu
 ce you to the important roles of Fungi in nature and discuss mushroom 
 medicine too.\nEveryone will receive an oyster mushroom grow bag to st
 art growing at home. The kit features a local oyster mushroom strain g
 rown on straw and rye.  Properly maintained, the kit will yield up to
  a pound of delicious oyster mushrooms over the course of a month. All
  you’ll need to do is provide a humid microclimate for your kit and 
 spritz with mist most days and you can expect your first harvest withi
 n 10 days.\nTyler and Brian own and operate Mycopolitan Mushroom Compa
 ny, a.k.a. Philly’s mushroom farm!  They mainly grow Trumpet, Namek
 o, Pom Pom and Shiitake mushrooms in their North Philly subterranean f
 arm, supplying many of the most-acclaimed, farm-to-table restaurants i
 n the area as well as home cooks who enjoy the perks of membership in 
 Mycopolitan’s CSA-style Farm Share.  Mycopolitan has been featured 
 in Vice-Munchies, Edible Philly, Grid and more, and is a always excite
 d to share their love of Fungi with curious folks.\nPLEASE NOTE: Cance
 llations within 72 hours of the start of class are nonrefundable or tr
 ansferable. Workshop refunds and transfers requested earlier than 72 h
 ours before the class start time will be charged a $5.00 processing fe
 e.\n\n\nFor more information visit http://phillytodo.com/events/grow-y
 our-own-mushrooms-workshop-with-mycopolitan-mushroom-1
DTSTART:20171111T170000Z
DTEND:20171111T190000Z
CATEGORIES:"workshop/class"
LOCATION:Greensgrow Farms
WEBSITE:http://www.greensgrow.org/event/grow-mushrooms-workshop-mycopo
 litan-mushroom-company/
URL:http://www.greensgrow.org/event/grow-mushrooms-workshop-mycopolita
 n-mushroom-company/
CONTACT:
ORGANIZER;CN="Greensgrow Farms":http://phillytodo.com/profile/Greensgr
 owFarms
ATTACH;FMTTYPE="image/jpeg":
ATTENDEE;ROLE=REQ-PARTICIPANT;PARTSTAT=ACCEPTED;RSVP=TRUE;CN="Greensgr
 ow Farms":http://phillytodo.com/profile/GreensgrowFarms
END:VEVENT
END:VCALENDAR
