BEGIN:VCALENDAR
PRODID:NingEventWidget-v1
VERSION:2.0
METHOD:PUBLISH
BEGIN:VEVENT
UID:4320450:Event:35806
DTSTAMP:20260425T132535Z
SUMMARY:Greensgrow West: Opening Celebration
DESCRIPTION:We are excited to announce the opening of our new location
  in West Philadelphia. With the support of owner Algernong Allen, Gree
 nsgrow West will be situated at the former site of Elena's Soul Lounge
  at 4912 Baltimore Avenue. The new location will continue the organiza
 tion's mission to facilitate community greening and fresh food access 
 for everyone.\nAlthough much smaller in footprint, the new West Philly
  location will feature a fully stocked garden center, a small farmer's
  market, outdoor workshop and classroom space, and will serve as a pic
 kup location for the CSA.\nGreensgrow is excited to have the opportuni
 ty to serve a neighborhood with such a rich and diverse tradition of c
 ommunity gardening, and looks forward to working with the many busines
 ses and community groups that make Baltimore Avenue one of Philadelphi
 a's most successful commercial corridors.\nGreensgrow West will be ope
 n Thursday-Sunday from 11am-7pm this spring.\n\nFor more information v
 isit http://phillytodo.com/events/greensgrow-west-opening-celebration
DTSTART:20140220T230000Z
DTEND:20140221T000000Z
CATEGORIES:grand, opening
LOCATION:Greensgrow West
WEBSITE:http://www.greensgrow.org
URL:http://www.greensgrow.org
CONTACT:
ORGANIZER;CN="Greensgrow Farms":http://phillytodo.com/profile/Greensgr
 owFarms
ATTACH;FMTTYPE="image/jpeg":
ATTENDEE;ROLE=REQ-PARTICIPANT;PARTSTAT=ACCEPTED;RSVP=TRUE;CN="Greensgr
 ow Farms":http://phillytodo.com/profile/GreensgrowFarms
END:VEVENT
END:VCALENDAR
