BEGIN:VCALENDAR
PRODID:NingEventWidget-v1
VERSION:2.0
METHOD:PUBLISH
BEGIN:VEVENT
UID:4320450:Event:47205
DTSTAMP:20260425T132728Z
SUMMARY:Greensgrow West Grand Opening Weekend
DESCRIPTION:Greensgrow West Grand Opening: September 8, 2016, 5:00 –
  8:00 PM Visit us at our new, larger home in West Philadelphia at our 
 Grand Opening celebration during the Baltimore Avenue Dollar Stroll on
  Sept. 8. Enjoy live music, free food, local farmstand, cooking demons
 trations, horseback rides, and kids activities. We’ll be continuing 
 the celebration through the weekend with sales on plants and our Commu
 nity Garden Days discounts for registered community gardens.\nThe new 
 site features a high tunnel, demonstration green roofs and rain garden
 s, repurposed shipping containers, chicken coop, workshop space, seaso
 nal farmstand and CSA, and even a tiny house.\nStarting on August 12th
 , find us at Greensgrow West, 5123 Baltimore Avenue, Phila, PA 19143\n
 - See more at: http://www.greensgrow.org/event/greensgrow-west-grand-o
 pening-weekend/#sthash.TG6u47Rn.dpuf\n\nFor more information visit htt
 p://phillytodo.com/events/greensgrow-west-grand-opening-weekend
DTSTART:20161008T210000Z
DTEND:20161009T000000Z
CATEGORIES:grand, opening
LOCATION:Greensgrow West
WEBSITE:http://www.greensgrow.org/event/greensgrow-west-grand-opening-
 weekend/
URL:http://www.greensgrow.org/event/greensgrow-west-grand-opening-week
 end/
CONTACT:215-427-2702
ORGANIZER:Greensgrow West
ATTACH;FMTTYPE="image/jpeg":http://storage.ning.com/topology/rest/1.0/
 file/get/3054997235?profile=original
ATTENDEE;ROLE=REQ-PARTICIPANT;PARTSTAT=ACCEPTED;RSVP=TRUE;CN="Greensgr
 ow Farms":http://phillytodo.com/profile/GreensgrowFarms
END:VEVENT
END:VCALENDAR
