BEGIN:VCALENDAR
PRODID:NingEventWidget-v1
VERSION:2.0
METHOD:PUBLISH
BEGIN:VEVENT
UID:4320450:Event:47015
DTSTAMP:20260425T132726Z
SUMMARY:Greensgrow West Grand Opening Weekend
DESCRIPTION:There are many environmental benefits to installing a gree
 n roof; improved air quality, energy conservation, reduction of water 
 runoff, noise reduction and the introduction of green space, biodivers
 ity and wildlife habitat.\nThis course will be a hands-on introduction
  to low-tech affordable small green roofs. We will install an extensiv
 e to semi-intensive green roof on shipping containers at Greensgrow We
 st that house our new retail space and office. Through the process, pa
 rticipants will learn options for designing & detailing, sourcing mate
 rials and plants, cost information, and best practices for constructio
 n. Saturday’s program will include a comprehensive green roof primer
  course with instructor Travis Douglas, and attendees will construct m
 ost of the drainage and retention layers. Lunch will be provided.\nTra
 vis Douglas is a LEED AP, Certified Green Roof Installer and owner of 
 Future & Sons, a Philadelphia-based building and renovation contractor
  specializing in sustainable and green design. He has led the design a
 nd construction for numerous residential and commercial green roof ins
 tallations in the Philadelphia area.\nSunday’s program with Travis w
 ill focus on best practices for green roof planting and soil media, wi
 th a Q&A session on sedum and succulents with David Prendergast from G
 reensgrow Farms.\nParticipants can choose to participate on Saturday f
 or $35 (lunch included), Sunday (BYO lunch) $15 or both for $45. The w
 orkshop runs both days from 10am–3pm, with different programming eac
 h day as described above.\n- See more at: http://www.greensgrow.org/ev
 ent/green-roof-workshop-at-greensgrow-west/2016-10-15/#sthash.cKqkektF
 .dpuf\n\nFor more information visit http://phillytodo.com/events/green
 sgrow-west-grand-opening-weekend-1
DTSTART:20161015T140000Z
DTEND:20161016T190000Z
CATEGORIES:workshop
LOCATION:Greensgrow West
WEBSITE:http://www.greensgrow.org/event/green-roof-workshop-at-greensg
 row-west/2016-10-15/
URL:http://www.greensgrow.org/event/green-roof-workshop-at-greensgrow-
 west/2016-10-15/
CONTACT:215-427-2702
ORGANIZER;CN="Greensgrow Farms":http://phillytodo.com/profile/Greensgr
 owFarms
ATTACH;FMTTYPE="image/jpeg":http://storage.ning.com/topology/rest/1.0/
 file/get/3054997376?profile=original
ATTENDEE;ROLE=REQ-PARTICIPANT;PARTSTAT=ACCEPTED;RSVP=TRUE;CN="Greensgr
 ow Farms":http://phillytodo.com/profile/GreensgrowFarms
END:VEVENT
END:VCALENDAR
