BEGIN:VCALENDAR
PRODID:NingEventWidget-v1
VERSION:2.0
METHOD:PUBLISH
BEGIN:VEVENT
UID:4320450:Event:52042
DTSTAMP:20260425T112605Z
SUMMARY:Greensgrow West Farm Dinner
DESCRIPTION:Enjoy a night of farm to table fare at Greensgrow West fea
 turing produce grown at Greensgrow Farms in Kensington. You’ll be se
 rved a four course, family style meal, with beer provided by our neigh
 bors at Dock Street Brewery. Meet our farmer and find out more about h
 ow we grow tasty organic veggies right here in Philadelphia. You’ll 
 learn about our partner farms and how Greensgrow supports a network of
  local farms through fun events like our farm dinner, the CSA, farmsta
 nd and Mobile Markets.\nThere will be live music throughout, the event
 . Everyone gets a Greensgrow pint glass to take home!\nFor tickets: ht
 tp://www.greensgrow.org/event/greensgrow-west-farm-dinner/\n\nFor more
  information visit http://phillytodo.com/events/greensgrow-west-farm-d
 inner
DTSTART:20170923T223000Z
DTEND:20170924T013000Z
CATEGORIES:farm, dinner
LOCATION:Greensgrow West
WEBSITE:http://www.greensgrow.org/locations/greensgrow-west/
URL:http://www.greensgrow.org/locations/greensgrow-west/
CONTACT:215-427-2780
ORGANIZER;CN="Greensgrow Farms":http://phillytodo.com/profile/Greensgr
 owFarms
ATTACH;FMTTYPE="image/jpeg":http://storage.ning.com/topology/rest/1.0/
 file/get/3055005969?profile=original
ATTENDEE;ROLE=REQ-PARTICIPANT;PARTSTAT=ACCEPTED;RSVP=TRUE;CN="Greensgr
 ow Farms":http://phillytodo.com/profile/GreensgrowFarms
END:VEVENT
END:VCALENDAR
