BEGIN:VCALENDAR
PRODID:NingEventWidget-v1
VERSION:2.0
METHOD:PUBLISH
BEGIN:VEVENT
UID:4320450:Event:56137
DTSTAMP:20260425T100309Z
SUMMARY:Greensgrow West Farm Dinner
DESCRIPTION:Enjoy a night of farm to table fare at Greensgrow West fea
 turing produce grown at Greensgrow Farms in Kensington and our favorit
 e farmer partners. You’ll be served a four course family style meal 
 including a happy hour and dessert. You’ll learn about our partner f
 arms and how Greensgrow supports a network of local farms through our 
 Farm Share, farmstand and Mobile Markets and fun events like our farm 
 dinner.\nHave a great night out at our unique urban green space. Meet 
 our Executive Director and find out more about how we grow tasty organ
 ic veggies right here in Philadelphia. Neshaminy Creek Brewing are pro
 viding a selection of beer. Ann Karlen of Third Wheel Cheese Company w
 ill join us with a selection of local cheeses. There will be live musi
 c from Silk and Honey and Herb Quick. Sweet treats will be provided by
  Bright Yellow Creamery and Cake Life Bake Shop. Everyone gets a Green
 sgrow pint glass to take home!\nMenu\nFirst Course: Cheese Plate, Chil
 led Corn & Basil Soup, Eggplant & Tomato Caponata on Crostini\nSecond 
 Course: Heirloom Tomato Caprese Salad, Green Beans with Preserved Lemo
 n and Herbs\nThird Course: Red Wine Braised Beef over Gorgonzola Polen
 ta, Vegan Polenta, Grilled Seasonal Vegetables\nFourth Course: Bright 
 Yellow Creamery Ice Cream, Cake Life Bake Shop cookies\n \nEarly Bird
  Discount! Get $10.00 off your ticket when you use this code at check 
 out: WDINNERTEN18 Expires 8/30/18\n\nFor more information visit http:/
 /phillytodo.com/events/greensgrow-west-farm-dinner-1
DTSTART:20180922T220000Z
DTEND:20180923T010000Z
CATEGORIES:farm, to, table, dinner, party, happy, hour, live, music
LOCATION:Greensgrow West
WEBSITE:https://www.greensgrow.org/event/greensgrow-west-farm-dinner-2
 /
URL:https://www.greensgrow.org/event/greensgrow-west-farm-dinner-2/
CONTACT:
ORGANIZER;CN="Greensgrow Farms":http://phillytodo.com/profile/Greensgr
 owFarms
ATTACH;FMTTYPE="image/jpeg":http://storage.ning.com/topology/rest/1.0/
 file/get/3055015856?profile=original
ATTENDEE;ROLE=REQ-PARTICIPANT;PARTSTAT=ACCEPTED;RSVP=TRUE;CN="Greensgr
 ow Farms":http://phillytodo.com/profile/GreensgrowFarms
END:VEVENT
END:VCALENDAR
