BEGIN:VCALENDAR
PRODID:NingEventWidget-v1
VERSION:2.0
METHOD:PUBLISH
BEGIN:VEVENT
UID:4320450:Event:34677
DTSTAMP:20260425T143439Z
SUMMARY:Greensgrow Holiday Bazaar
DESCRIPTION:Saturday, December 7th • 10am–4pm Sunday, December 8th
  • 11am–4pm Saturday, December 14th • 10am–4pm Sunday, Decembe
 r 15th • 11am–4pm  Looking for local, handmade gift ideas from som
 e of the neighborhood’s most talented crafters and artists? Make a d
 ent in your Christmas shopping at Greensgrow’s Holiday Bazaar! This 
 is a festive neighborhood favorite, get your tree or holiday greens an
 d check out all of the cool wares our elves have made.\nShop local, su
 pport local artists! We’ll have a range of fine art and crafts; jewe
 lry, ceramics, wood working, accessories, green gifts, edible gifts, b
 ath/body and lots more. There are 30 artists each day of the event.\n\
 nFor more information visit http://phillytodo.com/events/greensgrow-ho
 liday-bazaar
DTSTART:20131207T050000Z
DTEND:20131216T045900Z
CATEGORIES:fine, arts, "&", craft, fair
LOCATION:Greensgrow Farms
WEBSITE:http://www.greensgrow.org/holidaybazaar
URL:http://www.greensgrow.org/holidaybazaar
CONTACT:
ORGANIZER;CN="Greensgrow Farms":http://phillytodo.com/profile/Greensgr
 owFarms
ATTACH;FMTTYPE="image/jpeg":http://storage.ning.com/topology/rest/1.0/
 file/get/3054972932?profile=original
ATTENDEE;ROLE=REQ-PARTICIPANT;PARTSTAT=ACCEPTED;RSVP=TRUE;CN="Greensgr
 ow Farms":http://phillytodo.com/profile/GreensgrowFarms
END:VEVENT
END:VCALENDAR
