BEGIN:VCALENDAR
PRODID:NingEventWidget-v1
VERSION:2.0
METHOD:PUBLISH
BEGIN:VEVENT
UID:4320450:Event:38293
DTSTAMP:20260425T132535Z
SUMMARY:Greensgrow Holiday Bazaar
DESCRIPTION:December 6, 7, 13, 14 • Greensgrow Holiday Bazaar\nShop 
 local, support local artists! Looking for local, handmade gift ideas f
 rom some of the neighborhood's most talented crafters and artists? We'
 ll have a range of fine art and crafts; jewelry, ceramics, wood workin
 g, accessories, green gifts, bath/body, Greensgrow made edible gifts, 
 and lots more. \n\nThe farm will be bursting with evergreen swags, hol
 iday trees, and more for your December décor. Our trees range in size
  from tabletop to tall. We have great gift items like rosemary bushes,
  dwarf Alberta Spruce, mini-evergreens, and winter flowering plants li
 ke cyclamens, amaryllis, Christmas cactus and paperwhite bulbs.\nHours
 :\nSaturday, December 6th • 10–4, Sunday, December 7th • 11–4\
 nSaturday, December 13th • 10–4 & Sunday, December 14th • 11–4
 \n\nhttp://www.greensgrow.org/holidaybazaar/\n\nFor more information v
 isit http://phillytodo.com/events/greensgrow-holiday-bazaar-1
DTSTART:20141206T150000Z
DTEND:20141214T210000Z
CATEGORIES:bazaar, festival, arts, local, crafts
LOCATION:Greensgrow Farms
WEBSITE:http://www.greensgrow.org/holidaybazaar/
URL:http://www.greensgrow.org/holidaybazaar/
CONTACT:215-427-2702
ORGANIZER;CN="Greensgrow Farms":http://phillytodo.com/profile/Greensgr
 owFarms
ATTACH;FMTTYPE="image/jpeg":
ATTENDEE;ROLE=REQ-PARTICIPANT;PARTSTAT=ACCEPTED;RSVP=TRUE;CN="Greensgr
 ow Farms":http://phillytodo.com/profile/GreensgrowFarms
END:VEVENT
END:VCALENDAR
