BEGIN:VCALENDAR
PRODID:NingEventWidget-v1
VERSION:2.0
METHOD:PUBLISH
BEGIN:VEVENT
UID:4320450:Event:38016
DTSTAMP:20260425T143235Z
SUMMARY:Greensgrow Farms Shrimp Boil Benefit
DESCRIPTION:We are having a good old fashioned shrimp boil to raise fu
 nds for the Greensgrow Community Kitchen! There will be live music fro
 m Zydeco-A-Go-Go!, dancing, free dance lessons and a fabulous low coun
 try shrimp boil! Chef Justin Swain from Rex 1516 and Chef Carolynn Ang
 le from the Standard Tap will be handling the grub. Philadelphia Brewi
 ng Company will be on hand and on tap too! The Greensgrow Community K
 itchen is a bustling culinary center that serves as a business incubat
 or and a demonstration kitchen. The space hosts cooking classes taught
  by chefs at some of the city’s best kitchens, like Cheu Noodle Bar 
 and Little Baby’s Ice Cream. We make our preserves and prepared good
 s for the farmstand there too!Tickets and info: http://www.greensgrow.
 org/event/greensgrow-farms-shrimp-boil-benefit/\n\nFor more informatio
 n visit http://phillytodo.com/events/greensgrow-farms-shrimp-boil-bene
 fit
DTSTART:20140816T220000Z
DTEND:20140817T010000Z
CATEGORIES:benefit, dinner
LOCATION:Greensgrow Farms
WEBSITE:http://www.greensgrow.org/event/greensgrow-farms-shrimp-boil-b
 enefit/
URL:http://www.greensgrow.org/event/greensgrow-farms-shrimp-boil-benef
 it/
CONTACT:
ORGANIZER;CN="Greensgrow Farms":http://phillytodo.com/profile/Greensgr
 owFarms
ATTACH;FMTTYPE="image/jpeg":
ATTENDEE;ROLE=REQ-PARTICIPANT;PARTSTAT=ACCEPTED;RSVP=TRUE;CN="Greensgr
 ow Farms":http://phillytodo.com/profile/GreensgrowFarms
END:VEVENT
END:VCALENDAR
