BEGIN:VCALENDAR
PRODID:NingEventWidget-v1
VERSION:2.0
METHOD:PUBLISH
BEGIN:VEVENT
UID:4320450:Event:35856
DTSTAMP:20260425T163458Z
SUMMARY:Greensgrow After-Hours with Madame Fromage and Cherry Grove Fa
 rms
DESCRIPTION:We’re very excited to welcome Madame Fromage and Cherry 
 Grove Farms to Greensgrow for this cheese tasting event. Cherry Grove 
 Cheeses will be paired with local beers and cider as well as a milk an
 d cookie course! Guests will learn about the cheeses and the basics of
  pairing and will have the chance to experiment with their own pairing
 s during the evening.\n\nFor more information visit http://phillytodo.
 com/events/greensgrow-after-hours-with-madame-fromage-and-cherry-grove
 -farms
DTSTART:20140425T230000Z
DTEND:20140426T010000Z
CATEGORIES:cheese, pairing
LOCATION:Greensgrow Farms
WEBSITE:http://www.greensgrow.org/event/greensgrow-after-hours-with-ma
 dame-fromage-and-cherry-grove-farms/
URL:http://www.greensgrow.org/event/greensgrow-after-hours-with-madame
 -fromage-and-cherry-grove-farms/
CONTACT:
ORGANIZER;CN="Greensgrow Farms":http://phillytodo.com/profile/Greensgr
 owFarms
ATTACH;FMTTYPE="image/jpeg":
ATTENDEE;ROLE=REQ-PARTICIPANT;PARTSTAT=ACCEPTED;RSVP=TRUE;CN="Greensgr
 ow Farms":http://phillytodo.com/profile/GreensgrowFarms
END:VEVENT
END:VCALENDAR
