BEGIN:VCALENDAR
PRODID:NingEventWidget-v1
VERSION:2.0
METHOD:PUBLISH
BEGIN:VEVENT
UID:4320450:Event:40598
DTSTAMP:20260425T112543Z
SUMMARY:Great American Backyard Campout
DESCRIPTION:Spend the night under the stars in our woodlands after the
  50th Anniversary Picnic.  We’re teaming up with the National Wil
 dlife Federation to host the 11thAnnual Great American Backyard Campou
 t.  Go hiking, tell stories around the campfire, and meet animals fro
 m the Wildlife Clinic.  Wake up Sunday morning to breakfast and canoe
 ing.  Bring your own tent or rent one from us.  Picnic dinner and br
 eakfast are included.  Pre-registration required.\nCheck in 3:00 –
  5:00 pm | Check in 3:00 – 5:00 pm on Saturday; Check out 11:30 am 
 on Sunday.\nRegistration:$40/person\nDiscounts for families of 5 or mo
 re\n\nFor more information visit http://phillytodo.com/events/great-am
 erican-backyard-campout-1
DTSTART:20150627T190000Z
DTEND:20150628T150000Z
CATEGORIES:campout, and, picnic
LOCATION:Schuylkill Center for Environmental Education
WEBSITE:http://www.schuylkillcenter.org/blog/event/great-american-back
 yard-campout-2/
URL:http://www.schuylkillcenter.org/blog/event/great-american-backyard
 -campout-2/
CONTACT:215-482-7300, x110
ORGANIZER;CN="The Schuylkill Center":http://phillytodo.com/profile/Ann
 aLehrMueser
ATTACH;FMTTYPE="image/jpeg":http://storage.ning.com/topology/rest/1.0/
 file/get/3054986631?profile=original
ATTENDEE;ROLE=REQ-PARTICIPANT;PARTSTAT=ACCEPTED;RSVP=TRUE;CN="The Schu
 ylkill Center":http://phillytodo.com/profile/AnnaLehrMueser
END:VEVENT
END:VCALENDAR
