BEGIN:VCALENDAR
PRODID:NingEventWidget-v1
VERSION:2.0
METHOD:PUBLISH
BEGIN:VEVENT
UID:4320450:Event:39834
DTSTAMP:20260425T130710Z
SUMMARY:GrassROOTSâ€© Communityâ€© Foundation hosts a Town Hall to Kic
 koff Letâ€™s Move It: Philly! Fundraiser
DESCRIPTION:On â€©Februaryâ€© 21st, from â€©9am-noon, the GrassROOTSâ€
 © Communityâ€© Foundation (GCF) willâ€© kickâ€©off â€©a â€©day â€©of â
 €©wellness â€©by â€©hostingâ€© aâ€© Townâ€© Hallâ€© onâ€© Health â€©in
 â€© conjunction withâ€© theirâ€© all-star 5thâ€© Annualâ€© Letâ€™s Mov
 e It: Philly!â€© hip-hopâ€© fundraiser. Theâ€© healthâ€© forumâ€© is a
  â€©family-friendlyâ€© morningâ€© ofâ€© communityâ€© engagementâ€© and
 â€© openâ€© dialogueâ€© atâ€© Anna â€©L. Lingelbach Elementaryâ€© Scho
 ol â€©in â€©Germantown, locatedâ€© at â€©6340 â€©Wayne â€©Avenue,â€© P
 hiladelphia,â€©PA.â€© Local â€©and nationalâ€© leadersâ€© includingâ€©
  State Senatorâ€© Artâ€© Hayward,â€© Councilwomanâ€© Cindyâ€© Bassâ€© 
 andâ€© Stateâ€© Legislativeâ€© District â€©Leader â€©Stephen â€©Kinsey
 ,â€© alongâ€©with entertainmentâ€© mogul â€©Monaâ€©Scott-Young,â€© rec
 ording artist and activistâ€© Talibâ€© Kweli, â€©local â€©stars â€©Aja
  â€©Dantzler ofâ€© Kindredâ€© Theâ€© Family â€©Soulâ€© andâ€© radio pe
 rsonality Laiyaâ€© St.â€©Clairâ€© will speak â€©onâ€© healthâ€© issues
  andâ€© challenges facingâ€© youthâ€© andâ€© economically â€©disadvant
 aged â€©communities. Inâ€©addition, GCF will â€©officially â€©announce
 â€© the â€©launchâ€© of its LEAVES â€©program, aâ€© public health â€©s
 ocialâ€© actionâ€© programâ€© designed toâ€© improve healthâ€© andâ€© 
 well-beingâ€© ofâ€© adolescentâ€©girls, their â€©families â€©andâ€© th
 eir â€©neighborhood.\nÂ \nPurchase tickets for Letâ€™s Move It: Philly
 ! hip-hop fundraiser: letsmoveitphilly5.eventbrite.com\n\nFor more inf
 ormation visit http://phillytodo.com/events/grassroots-community-found
 ation-hosts-a-town-hall-to-kickoff-let
DTSTART:20150221T140000Z
DTEND:20150221T170000Z
CATEGORIES:fundraiser
LOCATION:Anna â€©L. Lingelbach Elementaryâ€© School
WEBSITE:http://letsmoveitphilly5.eventbrite.com
URL:http://letsmoveitphilly5.eventbrite.com
CONTACT:
ORGANIZER;CN="Skai Blue Media":http://phillytodo.com/profile/SkaiBlueM
 edia
ATTACH;FMTTYPE="image/jpeg":
ATTENDEE;ROLE=REQ-PARTICIPANT;PARTSTAT=ACCEPTED;RSVP=TRUE;CN="Skai Blu
 e Media":http://phillytodo.com/profile/SkaiBlueMedia
END:VEVENT
END:VCALENDAR
