BEGIN:VCALENDAR
PRODID:NingEventWidget-v1
VERSION:2.0
METHOD:PUBLISH
BEGIN:VEVENT
UID:4320450:Event:49440
DTSTAMP:20260425T131216Z
SUMMARY:Grand Opening Weekend of Puyero Venezuelan Flavor
DESCRIPTION:Come celebrate Puyero Venezuelan Flavor’s (524 S. 4th St
 ) Grand Opening Weekend. The fun starts on Friday, March 17th with FRE
 E arepas! Arepas are crunchy ground corn patties with a soft and warm 
 inside filled with juicy and exotic stuffings. Enjoy your first taste 
 at Puyero Venezuelan Flavor with any style arepas between 11:30am and 
 1:30pm. No purchase is required. One arepa per person. On Saturday, Ma
 rch 18th, enjoy a free order of tequenos, yuca, tajadas de platano or 
 mandocas with any purchase of an arepa or patacon. End the weekend on 
 Sunday with free orders of churros on Sunday, March 19th.For the full 
 menu and any other info, please call (267)928-4584 or visit www.puyero
 flavor.com. Reservations are not accepted at this time.\n \n\nFor mor
 e information visit http://phillytodo.com/events/grand-opening-weekend
 -of-puyero-venezuelan-flavor
DTSTART:20170317T153000Z
DTEND:20170320T020000Z
CATEGORIES:grand, opening
LOCATION:Puyero Venezuelan Flavor
WEBSITE:http://www.puyeroflavor.com/
URL:http://www.puyeroflavor.com/
CONTACT:(267)928-4584
ORGANIZER:Puyero Venezuelan Flavor
ATTACH;FMTTYPE="image/jpeg":http://storage.ning.com/topology/rest/1.0/
 file/get/3055003709?profile=original
ATTENDEE;ROLE=REQ-PARTICIPANT;PARTSTAT=ACCEPTED;RSVP=TRUE;CN="Aversa P
 R & Events":http://phillytodo.com/profile/KoryAversa277
END:VEVENT
END:VCALENDAR
