BEGIN:VCALENDAR
PRODID:NingEventWidget-v1
VERSION:2.0
METHOD:PUBLISH
BEGIN:VEVENT
UID:4320450:Event:44997
DTSTAMP:20260425T141601Z
SUMMARY:Grand Opening Weekend at WAV Nightclub
DESCRIPTION:WAV Nightclub premieres in Atlantic City with EDM's bad bo
 y Tommy Trash onFriday April 1st and Grammy Award Winning artist Skri
 llex on Saturday, April 2nd. This is a highly anticipated grand openi
 ng event for Atlantic City's newest nightlife destination. Join us on 
 the first weekend in April to be the first to see the amazing new nigh
 tclub. The 20,000 square-feet, 200,000 watts of sound, 2.5 million pix
 els of LED walls and amazing light system will impress all. Tickets wi
 ll sell out for this event, advance purchase tickets will be the only 
 guarantee for entry.\n\nFor more information visit http://phillytodo.c
 om/events/grand-opening-weekend-at-wav-nightclub
DTSTART:20160402T020000Z
DTEND:20160402T080000Z
CATEGORIES:nightclub, opening
LOCATION:Caesars Atlantic City
WEBSITE:http://wavac.com/
URL:http://wavac.com/
CONTACT:
ORGANIZER;CN="UpcomingEvents.com":http://phillytodo.com/profile/Upcomi
 ngEventscom
ATTACH;FMTTYPE="image/jpeg":http://storage.ning.com/topology/rest/1.0/
 file/get/3054993475?profile=original
ATTENDEE;ROLE=REQ-PARTICIPANT;PARTSTAT=ACCEPTED;RSVP=TRUE;CN="Upcoming
 Events.com":http://phillytodo.com/profile/UpcomingEventscom
END:VEVENT
END:VCALENDAR
