BEGIN:VCALENDAR
PRODID:NingEventWidget-v1
VERSION:2.0
METHOD:PUBLISH
BEGIN:VEVENT
UID:4320450:Event:40924
DTSTAMP:20260425T155920Z
SUMMARY:Grand Opening of T Street at The Playground!
DESCRIPTION:Join us as we take over Atlantic City and welcome the Gra
 nd Opening of T Street at The Playground! Thursday, June 25th, at 
 8:00pmyou're invited to spend the evening dancing with VIPs right on t
 he water in some of the hottest and newest restaurants and bars in the
  area!  \n Get complimentary admission to this exclusive party and on
 e free drink by RSVPing on our VIP Guestlist!   T Street is reminisce
 nt of music row in Nashville, Beale Street in Memphis and 6th Street i
 n Austin. They are all about the music, all night, every night, seven 
 days per week. So you can excpect nothing but musical perfection for t
 heir Grand Opening Party! Six different venues, six different genres o
 f music, and with Iron Chef Jose Garces providing the cuisine, there's
  something for everyone!  Join us Thursday, June 25th at 8pm for the
  unveiling of the new face of Atlantic City: T Street!\nRSVP/Ticket Li
 nk: \nhttp://www.upcomingevents.com/e/t-street-vip-grand-opening-part
 y-22971/?ref=uceh\n \n\nFor more information visit http://phillytodo.
 com/events/grand-opening-of-t-street-at-the-playground-1
DTSTART:20150626T000000Z
DTEND:20150626T060000Z
CATEGORIES:special, grand, opening, event
LOCATION:T Street at The Playground
WEBSITE:http://www.upcomingevents.com/e/t-street-vip-grand-opening-par
 ty-22971/?ref=uceh
URL:http://www.upcomingevents.com/e/t-street-vip-grand-opening-party-2
 2971/?ref=uceh
CONTACT:215.966.1535
ORGANIZER;CN="UpcomingEvents.com":http://phillytodo.com/profile/Upcomi
 ngEventscom
ATTACH;FMTTYPE="image/jpeg":http://storage.ning.com/topology/rest/1.0/
 file/get/3054988719?profile=original
ATTENDEE;ROLE=REQ-PARTICIPANT;PARTSTAT=ACCEPTED;RSVP=TRUE;CN="Upcoming
 Events.com":http://phillytodo.com/profile/UpcomingEventscom
END:VEVENT
END:VCALENDAR
