BEGIN:VCALENDAR
PRODID:NingEventWidget-v1
VERSION:2.0
METHOD:PUBLISH
BEGIN:VEVENT
UID:4320450:Event:27002
DTSTAMP:20260425T181420Z
SUMMARY:Grand Opening Night of the NEW Jolly's Dueling Piano Bar!
DESCRIPTION:The long-awaited moment is here - be the first to see the 
 newest location - announcing the GRAND OPENING of Jolly's American Bee
 r Bar & Dueling Pianos!!  With 24 Craft Beers on Tap, a Beautiful New
  Room, great new specialty drinks, and a full menu by Chef Dayna Russo
  of Brick you, and your friends are surely in for a TREAT.  Complimen
 tary open bar sponsored by Stoli Vodka.\n \nNOTE:  This event is FRE
 E to attend if you RSVP.  If you want to upgrade and purchase a VIP t
 able, please click \"buy now\" on the link below.  Tables are $150 an
 d are good for up to 10 people.  They INCLUDE VIP waitress service an
 d the open bar!\n\nFor more information visit http://phillytodo.com/ev
 ents/grand-opening-night-of-the-new-jolly-s-dueling-piano-bar
DTSTART:20120622T220000Z
DTEND:20120623T040000Z
CATEGORIES:grand, opening
LOCATION:Jolly's American Beer Bar & Dueling Pianos
WEBSITE:http://www.UpcomingEvents.com/event/10835/ptodo
URL:http://www.UpcomingEvents.com/event/10835/ptodo
CONTACT:
ORGANIZER;CN="UpcomingEvents.com":http://phillytodo.com/profile/Upcomi
 ngEventscom
ATTACH;FMTTYPE="image/jpeg":http://storage.ning.com/topology/rest/1.0/
 file/get/3054960608?profile=original
ATTENDEE;ROLE=REQ-PARTICIPANT;PARTSTAT=ACCEPTED;RSVP=TRUE;CN="Upcoming
 Events.com":http://phillytodo.com/profile/UpcomingEventscom
END:VEVENT
END:VCALENDAR
