BEGIN:VCALENDAR
PRODID:NingEventWidget-v1
VERSION:2.0
METHOD:PUBLISH
BEGIN:VEVENT
UID:4320450:Event:35824
DTSTAMP:20260425T124958Z
SUMMARY:Grains of Truth
DESCRIPTION:Thursday, Feb. 27, 7-9 p.m.The workshop series is \"Eating
  with Body in Mind.\" In this first session, Weavers Way member member
  April Pendrick will delve into the mysteries of grains, gluten and mo
 re. The other workshops are \"Gut Gardening, the Root of Health\" (Mar
 ch 13) and \"Fats\" (March 27). In the kitchen at Chestnut Hill Friend
 s Meetinghouse, 20 E. Mermaid Lane. RSVP: outreach@weaversway.coop.\n
 \nFor more information visit http://phillytodo.com/events/grains-of-tr
 uth
DTSTART:20140228T000000Z
DTEND:20140228T020000Z
CATEGORIES:workshop
LOCATION:Chestnut Hill Friends Meetinghouse
WEBSITE:
URL:
CONTACT:
ORGANIZER:Weavers Way
ATTACH;FMTTYPE="image/jpeg":
ATTENDEE;ROLE=REQ-PARTICIPANT;PARTSTAT=ACCEPTED;RSVP=TRUE;CN="Mary Swe
 eten":http://phillytodo.com/profile/WeaversWay
END:VEVENT
END:VCALENDAR
