BEGIN:VCALENDAR
PRODID:NingEventWidget-v1
VERSION:2.0
METHOD:PUBLISH
BEGIN:VEVENT
UID:4320450:Event:55137
DTSTAMP:20260425T124842Z
SUMMARY:Good Libations Market
DESCRIPTION:\nOur local cider scene is growing! Join us at the farmsta
 nd to taste PA ciders from Ploughman Farm Cider, Commonwealth Cider an
 d Kurant Cider!\nGreensgrow’s Farmstand runs by the motto “fresh, 
 local and delicious”, and is an extension of our mission to bring Ph
 iladelphians quality produce and locally prepared provisions. We have 
 a selection of our own organically-grown produce as well as local prod
 uce from within 150 miles from our long-time farmer partners. We are s
 tocked with all local items including dairy products from raw milk to 
 artisan cheese, cage-free eggs, pantry goods, meat-free proteins, and 
 humanely and sustainably raised meats.\nPloughman Farm Cider is the pr
 oud maker of ciders made from apples grown in Adams County, PA. They g
 row, harvest and produce ciders from our friends at Three Springs Frui
 t Farm.\nCommonwealth Ciders crafts traditionally-fermented hard appl
 e cider made right down the street from Greensgrow Farms and is one of
  our longtime community partners. Their ciders are fermented dry with 
 no additional sweeteners, artificial flavors, preservatives or colors.
 \nKurant Cider, based in Perkasie, is working on a new space in our ne
 ck of the hood. Their ciders are crafted with inspiration from traditi
 onal French, English, and Spanish ciders and are ultra dry and unfilte
 red with a touch of American farmhouse character.\n\nFor more informat
 ion visit http://phillytodo.com/events/good-libations-market
DTSTART:20180609T140000Z
DTEND:20180609T180000Z
CATEGORIES:community, event
LOCATION:Greensgrow Farms
WEBSITE:https://www.google.com/maps/place/Greensgrow+Farms/@39.9537752
 ,-75.2216596,12z/data=!4m8!1m2!2m1!1sgreensgrow+farms!3m4!1s0x89c6c839
 f5c8a855:0x69b222b732c05e00!8m2!3d39.9782547!4d-75.1209497
URL:https://www.google.com/maps/place/Greensgrow+Farms/@39.9537752,-75
 .2216596,12z/data=!4m8!1m2!2m1!1sgreensgrow+farms!3m4!1s0x89c6c839f5c8
 a855:0x69b222b732c05e00!8m2!3d39.9782547!4d-75.1209497
CONTACT:215.427.2780
ORGANIZER;CN="Greensgrow Farms":http://phillytodo.com/profile/Greensgr
 owFarms
ATTACH;FMTTYPE="image/jpeg":http://storage.ning.com/topology/rest/1.0/
 file/get/3055013861?profile=original
ATTENDEE;ROLE=REQ-PARTICIPANT;PARTSTAT=ACCEPTED;RSVP=TRUE;CN="Greensgr
 ow Farms":http://phillytodo.com/profile/GreensgrowFarms
END:VEVENT
END:VCALENDAR
