BEGIN:VCALENDAR
PRODID:NingEventWidget-v1
VERSION:2.0
METHOD:PUBLISH
BEGIN:VEVENT
UID:4320450:Event:55208
DTSTAMP:20260425T124912Z
SUMMARY:Good Libations Market
DESCRIPTION:Our local cider scene is growing! Join us at the farmstand
  to taste PA ciders from Ploughman Farm Cider, Commonwealth Cider and 
 Kurant Cider!\nGreensgrow’s Farmstand runs by the motto “fresh, lo
 cal and delicious”, and is an extension of our mission to bring Phil
 adelphians quality produce and locally prepared provisions. We have a 
 selection of our own organically-grown produce as well as local produc
 e from within 150 miles from our long-time farmer partners. We are sto
 cked with all local items including dairy products from raw milk to ar
 tisan cheese, cage-free eggs, pantry goods, meat-free proteins, and hu
 manely and sustainably raised meats.\nPloughman Farm Cider is the prou
 d maker of ciders made from apples grown in Adams County, PA. They gro
 w, harvest and produce ciders from our friends at Three Springs Fruit 
 Farm.\nCommonwealth Ciders crafts traditionally-fermented hard apple 
 cider made right down the street from Greensgrow Farms and is one of o
 ur longtime community partners. Their ciders are fermented dry with no
  additional sweeteners, artificial flavors, preservatives or colors.\n
 Kurant Cider, based in Perkasie, is working on a new space in our neck
  of the hood. Their ciders are crafted with inspiration from tradition
 al French, English, and Spanish ciders and are ultra dry and unfiltere
 d with a touch of American farmhouse character.\n\nFor more informatio
 n visit http://phillytodo.com/events/good-libations-market-3
DTSTART:20180811T140000Z
DTEND:20180811T180000Z
CATEGORIES:community, event
LOCATION:Greensgrow Farms
WEBSITE:https://www.google.com/maps/place/Greensgrow+Farms/@39.9537752
 ,-75.2216596,12z/data=!4m8!1m2!2m1!1sgreensgrow+farms!3m4!1s0x89c6c839
 f5c8a855:0x69b222b732c05e00!8m2!3d39.9782547!4d-75.1209497
URL:https://www.google.com/maps/place/Greensgrow+Farms/@39.9537752,-75
 .2216596,12z/data=!4m8!1m2!2m1!1sgreensgrow+farms!3m4!1s0x89c6c839f5c8
 a855:0x69b222b732c05e00!8m2!3d39.9782547!4d-75.1209497
CONTACT:215.427.2780
ORGANIZER;CN="Greensgrow Farms":http://phillytodo.com/profile/Greensgr
 owFarms
ATTACH;FMTTYPE="image/jpeg":
ATTENDEE;ROLE=REQ-PARTICIPANT;PARTSTAT=ACCEPTED;RSVP=TRUE;CN="Greensgr
 ow Farms":http://phillytodo.com/profile/GreensgrowFarms
END:VEVENT
END:VCALENDAR
