BEGIN:VCALENDAR
PRODID:NingEventWidget-v1
VERSION:2.0
METHOD:PUBLISH
BEGIN:VEVENT
UID:4320450:Event:46630
DTSTAMP:20260425T225337Z
SUMMARY:Good Good Comedy Presents: Ben Kronberg
DESCRIPTION:Good Good Comedy is excited to bring another one of our fa
 vorite comedians to Philadelphia for a one-night-only show - Ben Kronb
 erg!\n \nBen Kronberg is a stand-up comic who has performed on Jimmy 
 Kimmel Live, @midnight, John Oliver's New York Stand-up Show, Late Nig
 ht with Seth Meyers and his own Comedy Central Half Hour. He was named
  one of Comedy Central's Comics To Watch\n \nCome spend a wonderful h
 our with Ben Kronberg and special guests Nick Lavallee (Funny or Die) 
 and Chris O'Connor (\"Samesies\").\n\nFor more information visit http:
 //phillytodo.com/events/good-good-comedy-presents-ben-kronberg
DTSTART:20160711T000000Z
DTEND:20160711T013000Z
CATEGORIES:comedy
LOCATION:PhilaMOCA
WEBSITE:http://www.goodgoodcomedy.com/benkronberg
URL:http://www.goodgoodcomedy.com/benkronberg
CONTACT:5854068514
ORGANIZER;CN="Good Good Comedy":http://phillytodo.com/profile/GoodGood
 Comedy
ATTACH;FMTTYPE="image/jpeg":http://storage.ning.com/topology/rest/1.0/
 file/get/3054995798?profile=original
ATTENDEE;ROLE=REQ-PARTICIPANT;PARTSTAT=ACCEPTED;RSVP=TRUE;CN="Good Goo
 d Comedy":http://phillytodo.com/profile/GoodGoodComedy
END:VEVENT
END:VCALENDAR
