BEGIN:VCALENDAR
PRODID:NingEventWidget-v1
VERSION:2.0
METHOD:PUBLISH
BEGIN:VEVENT
UID:4320450:Event:26537
DTSTAMP:20260425T161149Z
SUMMARY:Golf Shot Clinic Featuring Nike Golf-Athlete: Amanda Blumenhur
 st
DESCRIPTION:As part of the Ron Jaworski Celebrity Golf Challenge, whic
 h benefits Jaws Youth Playbook, a Golf Shot Clinic is being held at th
 e Atlantic City Country Club driving range on Monday, May 21st from 2:
 00 to 2:45 PM. The clinic will be featuring Nike golf-athlete Amanda B
 lumenherst,  a professional golfer, three-time national collegiate pl
 ayer of the year and winner of the 2008 U.S. Women’s Amateur Champio
 nship.\n \nRegular admission is $5 and a VIP pack is $20. VIP packs i
 nclude a Nike Accessory Bag full of Jaws Tourney goodies and a $5 vouc
 her for Nike Gifting Suite (valid May 21 only).   Admission is compl
 imentary for all credentialed sponsors and guests of the Ron Jaworski 
 Celebrity Golf Challenge.\n \nJaws Youth Playbook works to improve th
 e overall health and wellness of at-risk youth, primarily in the Great
 er Philadelphia region. \n\nFor more information visit http://phillyt
 odo.com/events/golf-shot-clinic-featuring-nike-golf-athlete-amanda-blu
 menhurst
DTSTART:20120521T180000Z
DTEND:20120521T184500Z
CATEGORIES:golf, clinic
LOCATION:Atlantic City Country Club
WEBSITE:http://www.jawscelebritygolf.com/
URL:http://www.jawscelebritygolf.com/
CONTACT:856-848-4437
ORGANIZER:
ATTACH;FMTTYPE="image/jpeg":
ATTENDEE;ROLE=REQ-PARTICIPANT;PARTSTAT=ACCEPTED;RSVP=TRUE;CN="Lauren W
 enzel":http://phillytodo.com/profile/JacklinRhoads
END:VEVENT
END:VCALENDAR
