BEGIN:VCALENDAR
PRODID:NingEventWidget-v1
VERSION:2.0
METHOD:PUBLISH
BEGIN:VEVENT
UID:4320450:Event:47022
DTSTAMP:20260425T124901Z
SUMMARY:Going Up: Climate Change + Philadelphia
DESCRIPTION:Join us for the opening of a gallery exhibition showcasing
  a range of art work exploring impacts, solutions, and questions about
  climate change – eight artists explore various dimensions of the fu
 ture of a hotter, wetter Philadelphia.  Two artists made “river pri
 nts” dipping handmade paper into the pollution on the surface of the
  Delaware River; one paints exquisite watercolor landscapes, the conto
 urs following the data graphs of key climate indicators such as CO2 co
 ncentrations; another artist creates paperworks inspired by the tunnel
 s built by bark beetles.\nThough unquestionably one of the most pressi
 ng issues of our time, climate change is classically difficult for us 
 to wrap our minds around. Art about climate change has a unique potent
 ial to make these problems personal and relevant, with artists able to
  serve in the role of commentator, collaborator, storyteller, catalyst
 , and more. Drawing lines between global phenomena and what happens in
  our own lives and communities means the difference between despair an
 d engagement.\n\n\nFor more information visit http://phillytodo.com/ev
 ents/going-up-climate-change-philadelphia
DTSTART:20160924T200000Z
DTEND:20160924T220000Z
CATEGORIES:gallery, opening
LOCATION:The Schuylkill Center
WEBSITE:http://www.schuylkillcenter.org/blog/event/going-up-climate-ch
 ange-philadelphia/
URL:http://www.schuylkillcenter.org/blog/event/going-up-climate-change
 -philadelphia/
CONTACT:215-482-7300
ORGANIZER;CN="The Schuylkill Center":http://phillytodo.com/profile/Ann
 aLehrMueser
ATTACH;FMTTYPE="image/jpeg":http://storage.ning.com/topology/rest/1.0/
 file/get/3054996763?profile=original
ATTENDEE;ROLE=REQ-PARTICIPANT;PARTSTAT=ACCEPTED;RSVP=TRUE;CN="The Schu
 ylkill Center":http://phillytodo.com/profile/AnnaLehrMueser
END:VEVENT
END:VCALENDAR
