BEGIN:VCALENDAR
PRODID:NingEventWidget-v1
VERSION:2.0
METHOD:PUBLISH
BEGIN:VEVENT
UID:4320450:Event:27526
DTSTAMP:20260425T160041Z
SUMMARY:GO WEST! Craft Fest
DESCRIPTION:Over 50 of Philly's finest artists and craftspeople head t
 o West Philly for GO WEST! Craft Fest, Saturday, September 29, 11-5 at
  The Woodlands. Find unique jewelry, accessories, clothing, fine art, 
 paper goods, soaps, candles, and more, all created in the Philly regio
 n.\n\nThere will also be live entertainment and music, including Perse
 verance Jazz Band, a children's music set by Jay Sand of All Around Th
 is World, and Tiny Circus by Tangle performing aerial flights of fancy
 . There will also be a selection of food vendors, including West Phill
 y's own award-winning Lil' Pop Shop.\n\nWhile you're there, stroll the
  54 green acres of the Woodlands Historic Mansion, Cemetery and Landsc
 ape, home to hundreds of grand old trees, a community garden, an apiar
 y, a 17th century mansion (open for tours) as well as over 30,000 eter
 nal Philadelphians since 1840.\n\nRain date Sunday, September 30.\n\nF
 or more information visit http://phillytodo.com/events/go-west-craft-f
 est
DTSTART:20120929T150000Z
DTEND:20120929T210000Z
CATEGORIES:craft, fair
LOCATION:The Woodlands
WEBSITE:http://gowestcraftfest.com
URL:http://gowestcraftfest.com
CONTACT:
ORGANIZER;CN="VIX Emporium":http://phillytodo.com/profile/VIXEmporium6
 14
ATTACH;FMTTYPE="image/jpeg":http://storage.ning.com/topology/rest/1.0/
 file/get/3054960854?profile=original
ATTENDEE;ROLE=REQ-PARTICIPANT;PARTSTAT=ACCEPTED;RSVP=TRUE;CN="VIX Empo
 rium":http://phillytodo.com/profile/VIXEmporium614
END:VEVENT
END:VCALENDAR
