BEGIN:VCALENDAR
PRODID:NingEventWidget-v1
VERSION:2.0
METHOD:PUBLISH
BEGIN:VEVENT
UID:4320450:Event:51819
DTSTAMP:20260425T142652Z
SUMMARY:Gluten Free Jewish Baking Workshop
DESCRIPTION:Tradition with a twist is coming to the Greensgrow Communi
 ty Kitchen on September 9! Join Alan Mathson from Motzi Bakery at our 
 Gluten Free Jewish Baking Workshop, where youâ€™ll learn to make quint
 essential Jewish desserts; moist apple cake and beautiful macaroons, t
 hat are 100% gluten free!\nAlan will give us hand on instructions as w
 e make these treats together from start to finish. Weâ€™ll learn every
 thing from correct mixing and baking procedures for successful gluten 
 free dishes, to decorating skills, like tempering chocolate and shapin
 g macaroons. After we roll up our sleeves and get our hands messy, weâ
 €™ll all take home a sample to share, along with recipes!\nAlan Mathso
 n is the founder of Motzi Bakery, which specializes in updated traditi
 onal Jewish baked goods. Motzi Bakery is a small batch bakery that use
 s local freshly stone ground whole grain in his babka and cookies, fre
 sh fruit for his fillings and made in small batches for quality and co
 nsistency. To register visit: http://www.greensgrow.org/event/gluten-f
 ree-jewish-baking/\n\nFor more information visit http://phillytodo.com
 /events/gluten-free-jewish-baking-workshop
DTSTART:20170909T160000Z
DTEND:20170909T180000Z
CATEGORIES:"workshop/class"
LOCATION:Greensgrow Community Kitchen at St. Michael's Lutheran Church
WEBSITE:http://www.greensgrow.org/event/gluten-free-jewish-baking/
URL:http://www.greensgrow.org/event/gluten-free-jewish-baking/
CONTACT:267.283.6787
ORGANIZER;CN="Greensgrow Farms":http://phillytodo.com/profile/Greensgr
 owFarms
ATTACH;FMTTYPE="image/jpeg":http://storage.ning.com/topology/rest/1.0/
 file/get/3055005670?profile=original
ATTENDEE;ROLE=REQ-PARTICIPANT;PARTSTAT=ACCEPTED;RSVP=TRUE;CN="Greensgr
 ow Farms":http://phillytodo.com/profile/GreensgrowFarms
END:VEVENT
END:VCALENDAR
