BEGIN:VCALENDAR
PRODID:NingEventWidget-v1
VERSION:2.0
METHOD:PUBLISH
BEGIN:VEVENT
UID:4320450:Event:28196
DTSTAMP:20260425T132526Z
SUMMARY:Gluten Free Beer Dinner
DESCRIPTION:Join Davio's, Philadelphia's favorite Northern Italian Ste
 akhouse, for an evening of creative culinary creations paired with glu
 ten free beer selections. From October 22nd to October 28th, 2012, gue
 sts will be treated to a three-course dinner of seasonally inspired fo
 ods prepared by Executive Chef David Boyle of Davio's and perfectly pa
 ired gluten free beer selections presented by Magners and Redbridge, i
 ncluding items such as: Gluten free potato gnocchi with puttanesca sau
 ce, the braised beef short ribs with truffled mashed potatoes and mush
 rooms as well as our signature vanilla panna cotta dessert (please see
  full menu with beer selections below).The dinner will allow guests to
  taste and enjoy some unexpected gluten free beer varieties while samp
 ling some gluten free culinary creations. Davio’s Philadelphia also 
 offers an extensive Gluten Free menu available everyday for lunch and 
 dinner.The Gluten Free Beer dinner menu is $50.00 per person (tax and 
 gratuity not included). Gluteen Free Beer Dinner MenuFirst course:Glu
 ten Free Potato Gnocchi, Puttanesca Sauce   Redbridge gluten free lag
 er Second course:Braised Beef Short Ribs, Truffled Mashed Potatoes, M
 ushrooms, Natural Reduction Magners Apple Cider Third course:Vanilla
  Panna Cotta Magners Pear Cider  Osteria is $50Beer Flight is $18 $
 50 Per Person (tax & gratuity not included) \n\nFor more information 
 visit http://phillytodo.com/events/gluten-free-beer-dinner
DTSTART:20121022T040000Z
DTEND:20121029T035900Z
CATEGORIES:food
LOCATION:Davio's Philadelphia
WEBSITE:http://www.davios.com
URL:http://www.davios.com
CONTACT:215-563-4810
ORGANIZER:Image Unlimited Communications
ATTACH;FMTTYPE="image/jpeg":http://storage.ning.com/topology/rest/1.0/
 file/get/3054960322?profile=original
ATTENDEE;ROLE=REQ-PARTICIPANT;PARTSTAT=ACCEPTED;RSVP=TRUE;CN="Juliette
  V":http://phillytodo.com/profile/JulietteV
END:VEVENT
END:VCALENDAR
