BEGIN:VCALENDAR
PRODID:NingEventWidget-v1
VERSION:2.0
METHOD:PUBLISH
BEGIN:VEVENT
UID:4320450:Event:17701
DTSTAMP:20260425T173509Z
SUMMARY:GLEEk GayBINGO!
DESCRIPTION:\"The only straight I am is straight up b****!\" -Santana 
 (Glee)\nHosted by Carlota Ttendant and the BVDs.\n \nTickets are $25 
 for reserved floor seating and $20 in the balcony.  This is our first 
 GayBINGO of the season and is not to be missed so call 215-731-9255 to
  get your tickets now!  Doors open at 6PM and the game starts at 7!\n\
 nFor more information visit http://phillytodo.com/events/gleek-gaybing
 o
DTSTART:20110910T230000Z
DTEND:20110911T010000Z
CATEGORIES:fundraiser, bingo
LOCATION:The Gershman Y
WEBSITE:http://www.aidsfundphilly.org/gaybingo
URL:http://www.aidsfundphilly.org/gaybingo
CONTACT:215-731-9255
ORGANIZER;CN="Cari Feiler Bender":http://phillytodo.com/profile/CariFe
 ilerBender
ATTACH;FMTTYPE="image/jpeg":
ATTENDEE;ROLE=REQ-PARTICIPANT;PARTSTAT=ACCEPTED;RSVP=TRUE;CN="Cari Fei
 ler Bender":http://phillytodo.com/profile/CariFeilerBender
END:VEVENT
END:VCALENDAR
