BEGIN:VCALENDAR
PRODID:NingEventWidget-v1
VERSION:2.0
METHOD:PUBLISH
BEGIN:VEVENT
UID:4320450:Event:39608
DTSTAMP:20260425T173840Z
SUMMARY:Glamsino Royale: Havana Nights
DESCRIPTION:Kimpton’s Hotel Palomar Philadelphia hosts a night of gl
 itz, glamour and good fortune with its 2nd Annual Glamsino Royale: Hav
 ana Nights event on February 19th from 7 p.m. to 9 p.m.  At “Glamsin
 o Royale: Havana Nights,” the 24th and 25th floors of the Palomar wi
 ll transform into a high-roller's paradise with casino table games and
  party tunes spun by Matt Beirschmidt aka DJ Sharyn Stone.  Your winni
 ng chips will provide you with the chance to take home luxurious raffl
 e items.  The silent auction will include jet-setting getaways to s
 tylish Kimpton Hotels in all of your favorite destinations.  Guests w
 ill enjoy passed light bites from Kimpton’s Square 1682, wine and be
 er, and signature cocktails from Philadelphia Distilling.   Tickets: 
 $50.00 (includes wine, beer, signature cocktails, and appetizers) EARL
 Y DISCOUNT: 2 tickets for $75 (Must purchase before Feb. 1)\n\nTickets
  - http://glamsinoroyale.brownpapertickets.com/\nFacebook event link-
  https://www.facebook.com/events/757285654356907/\n\nFor more informa
 tion visit http://phillytodo.com/events/glamsino-royale-havana-nights
DTSTART:20150220T000000Z
DTEND:20150220T020000Z
CATEGORIES:fundraiser
LOCATION:Kimpton Hotels, Hotel Palomar
WEBSITE:https://www.kimptonhotels.com/stay/hotel-palomar-philadelphia-
 pa
URL:https://www.kimptonhotels.com/stay/hotel-palomar-philadelphia-pa
CONTACT:215-981-0088
ORGANIZER:Kristen Gallagher
ATTACH;FMTTYPE="image/jpeg":http://storage.ning.com/topology/rest/1.0/
 file/get/3054985474?profile=original
ATTENDEE;ROLE=REQ-PARTICIPANT;PARTSTAT=ACCEPTED;RSVP=TRUE;CN="Ethan Bl
 ades":http://phillytodo.com/profile/EthanBlades
END:VEVENT
END:VCALENDAR
