BEGIN:VCALENDAR
PRODID:NingEventWidget-v1
VERSION:2.0
METHOD:PUBLISH
BEGIN:VEVENT
UID:4320450:Event:31573
DTSTAMP:20260425T125007Z
SUMMARY:Give Kids Sight Day 2013
DESCRIPTION:Public Citizens for Children and Youth (PCCY), Eagles Yout
 h Partnership, Wills Eye Institute, Thomas Jefferson University and Vi
 sionworks announce the fourth annual Give Kids Sight Day on Saturday, 
 April 13, 2013. Free eye exams and free glasses will be provided for P
 hiladelphia children ages 18 and under who are uninsured and underinsu
 red and do not have access to vision care. Registration opens at 8:00a
 m and extends through 2:00pm at Jefferson University Hospital Alumni H
 all at 10th and Locust streets.\nAfter registration, medical eye exams
  will be provided at Wills Eye Institute and Thomas Jefferson Universi
 ty. Families will be helped on a first come, first served basis. No ap
 pointments are necessary. Special thanks to sponsor First Hospital Fou
 ndation for their support. For more information, call (215) 563-5848, 
 ext. 21 or visit www.pccy.org/sightday.\n\nFor more information visit 
 http://phillytodo.com/events/give-kids-sight-day-2013
DTSTART:20130413T120000Z
DTEND:20130413T180000Z
CATEGORIES:community, children, philadelphia, free, eye, care, vision,
  sight, glasses, kids
LOCATION:Thomas Jefferson University
WEBSITE:http://www.pccy.org/sightday
URL:http://www.pccy.org/sightday
CONTACT:856-217-2083
ORGANIZER;CN="Aversa PR & Events":http://phillytodo.com/profile/KoryAv
 ersa277
ATTACH;FMTTYPE="image/jpeg":http://storage.ning.com/topology/rest/1.0/
 file/get/3054965163?profile=original
ATTENDEE;ROLE=REQ-PARTICIPANT;PARTSTAT=ACCEPTED;RSVP=TRUE;CN="Aversa P
 R & Events":http://phillytodo.com/profile/KoryAversa277
END:VEVENT
END:VCALENDAR
