BEGIN:VCALENDAR
PRODID:NingEventWidget-v1
VERSION:2.0
METHOD:PUBLISH
BEGIN:VEVENT
UID:4320450:Event:29539
DTSTAMP:20260425T163414Z
SUMMARY:Girls Night Out at the PHS Philadelphia Flower Show
DESCRIPTION:Girls Night Out at the PHS Philadelphia Flower Show will r
 eturn for its third consecutive year—attracting hundreds of ladies t
 hirsty for the ultimate night out. Presented by the Pennsylvania Horti
 cultural Society (PHS), Philadelphia Style magazine, and Macy’s Cent
 er City, Girls Night Out infuses the stunning Philadelphia Flower Show
  with a VIP party where guests can enjoy exclusive shopping, food and 
 wine tastings, health and beauty offerings, and product demos—JUST f
 or the ladies. And, new this year, Macy’s Center City will present a
 n unforgettable Will and Kate-inspired fashion presentation.\n\nTicket
 s are available for $50 each (includes Flower Show admission) and may 
 be purchased online here.Tickets for Girls Night Out are not sold at t
 he door. Upon arrival, all guests will receive one (1) ticket to redee
 m a complimentary cocktail and one (1) ticket to redeem a premium gift
 . All guests will receive a special PHS reusable tote bag to fill with
  samples and purchases throughout the evening.\n\n“Follow us on twit
 ter @PhilaFlowerShow and “like” us on www.facebook.com/theflowersh
 ow.\n\nFor more information visit http://phillytodo.com/events/girls-n
 ight-out-at-the-phs-philadelphia-flower-show
DTSTART:20130307T230000Z
DTEND:20130308T010000Z
CATEGORIES:flower, show, special, event
LOCATION:Pennsylvania Convention Center
WEBSITE:
URL:
CONTACT:
ORGANIZER;CN="Ashley Conde":http://phillytodo.com/profile/AshleyConde
ATTACH;FMTTYPE="image/jpeg":http://storage.ning.com/topology/rest/1.0/
 file/get/3054961091?profile=original
ATTENDEE;ROLE=REQ-PARTICIPANT;PARTSTAT=ACCEPTED;RSVP=TRUE;CN="Ashley C
 onde":http://phillytodo.com/profile/AshleyConde
END:VEVENT
END:VCALENDAR
