BEGIN:VCALENDAR
PRODID:NingEventWidget-v1
VERSION:2.0
METHOD:PUBLISH
BEGIN:VEVENT
UID:4320450:Event:39992
DTSTAMP:20260425T143425Z
SUMMARY:Girls Night Out at the PHS Philadelphia Flower Show
DESCRIPTION:Calling all ladies â€“ itâ€™s that time of year again. Itâ
 €™s lights, camera, bloom! as the 2015 Philadelphia Flower Show and Ph
 iladelphia Style Magazine presents Girls Night Out. This ultimate ladi
 es night kicks off with a red carpet entrance followed VIP shopping, f
 ood and wine tastings, health and beauty offerings, and product demos 
 from some of Philadelphiaâ€™s luxury retailers and of course â€“ the c
 inema worthy installations created by the Flower Show cast.\nÂ \nAbout
  the Philadelphia Flower Show:\nThe PHS Philadelphia Flower Show is th
 e worldâ€™s oldest and largest indoor flower show, which blooms every 
 March at the Pennsylvania Convention Center. Attracting more than 260,
 000 people annually, the show features the worldâ€™s premier landscape
  designers and florists, who turn 10 acres of the Convention Center in
 to a floral fantasy of beautiful plants and cutting-edge designs. In a
 ddition to the major garden displays, the Flower Show hosts world-reno
 wned competitions in horticulture and artistic floral arranging, hundr
 eds of gardening presentations and demonstrations, special events, a m
 ammoth indoor Marketplace, and a city-wide Flower Show Week celebratio
 n throughout the Philadelphia region. Proceeds from the Show support P
 HS, particularly the City Harvest program, which feeds more than 1,200
  families each week during the growing season.\n\nFor more information
  visit http://phillytodo.com/events/girls-night-out-at-the-phs-philade
 lphia-flower-show-1
DTSTART:20150305T223000Z
DTEND:20150306T010000Z
CATEGORIES:special, event
LOCATION:Pennsylvania Convention Center
WEBSITE:http://phsonline.org/events/girls-night-out
URL:http://phsonline.org/events/girls-night-out
CONTACT:
ORGANIZER:
ATTACH;FMTTYPE="image/jpeg":http://storage.ning.com/topology/rest/1.0/
 file/get/3054987131?profile=original
ATTENDEE;ROLE=REQ-PARTICIPANT;PARTSTAT=ACCEPTED;RSVP=TRUE;CN=CashmanAs
 soc:http://phillytodo.com/profile/CashmanAssoc
END:VEVENT
END:VCALENDAR
