BEGIN:VCALENDAR
PRODID:NingEventWidget-v1
VERSION:2.0
METHOD:PUBLISH
BEGIN:VEVENT
UID:4320450:Event:36872
DTSTAMP:20260425T175517Z
SUMMARY:Girls Night: Botox, Stella and Dot + It Works! Wraps Party
DESCRIPTION:Headhunters Hair Design (1718 E Passyunk Ave) presents a g
 irls night out on Tuesday, May 27, 2014, from 5-8pm. Head over to East
  Passyunk for shopping, sales and discounts with Stella and Dot, Botox
 , It Works! Body Wraps, and complimentary wine/snacks. Admission is fr
 ee, discounted services are pay-as-you-go. Call 215-334-4001 to RSVP
 .\n\nFor more information visit http://phillytodo.com/events/girls-nig
 ht-botox-stella-and-dot-it-works-wraps-party
DTSTART:20140527T210000Z
DTEND:20140528T000000Z
CATEGORIES:girls, night
LOCATION:Headhunters Hair Design
WEBSITE:https://www.facebook.com/events/711277368913336/
URL:https://www.facebook.com/events/711277368913336/
CONTACT:215-334-4001
ORGANIZER:Headhunters Hair Design
ATTACH;FMTTYPE="image/jpeg":http://storage.ning.com/topology/rest/1.0/
 file/get/3054978281?profile=original
ATTENDEE;ROLE=REQ-PARTICIPANT;PARTSTAT=ACCEPTED;RSVP=TRUE;CN="Aversa P
 R & Events":http://phillytodo.com/profile/KoryAversa277
END:VEVENT
END:VCALENDAR
