BEGIN:VCALENDAR
PRODID:NingEventWidget-v1
VERSION:2.0
METHOD:PUBLISH
BEGIN:VEVENT
UID:4320450:Event:54826
DTSTAMP:20260425T144636Z
SUMMARY:Girl Scout Cookie Month in Manayunk
DESCRIPTION:The Manayunk Development Corporation is partnering with Gi
 rl Scouts of Eastern Pennsylvania to bring you WHOLE MONTH of deliciou
 s cookies beginning with a kick-off event on February 3rd! Get first d
 ibs on exclusive cookie dishes and cocktails in Manayunk bars and rest
 aurants. Troops will be stationed along the street, so you can pick up
  your favorite cookies directly from Girls Scouts! Participating resta
 urants are teaming up with a troop to create a delicious Girl Scout Co
 okie dish or cocktail with a portion of the proceeds going to Girl Sco
 uts of Eastern Pennsylvania. Plus, you can vote for your favorite cook
 ie dish or cocktail in participating retail locations in Manayunk. Eve
 ry Thursday evening in February from 6PM-8PM, troops will be set up in
  retail shops on Main Street to sell their cookies and learn about ent
 repreneurship from female businesses owners in Manayunk. Stop by parti
 cipating retail locations to purchase your favorite cookies and vote f
 or your favorite restaurant cookie dish or cocktail!\n\nFor more infor
 mation visit http://phillytodo.com/events/girl-scout-cookie-month-in-m
 anayunk
DTSTART:20180203T230000Z
DTEND:20180204T010000Z
CATEGORIES:fundraiser
LOCATION:Manayunk
WEBSITE:http://manayunk.com/news-and-events/events/cookie-month-in-man
 ayunk.html
URL:http://manayunk.com/news-and-events/events/cookie-month-in-manayun
 k.html
CONTACT:(215) 482-9565
ORGANIZER;CN="Manayunk Development Corporation":http://phillytodo.com/
 profile/ManayunkDevelopmentCorporation
ATTACH;FMTTYPE="image/jpeg":http://storage.ning.com/topology/rest/1.0/
 file/get/3055010587?profile=original
ATTENDEE;ROLE=REQ-PARTICIPANT;PARTSTAT=ACCEPTED;RSVP=TRUE;CN="Manayunk
  Development Corporation":http://phillytodo.com/profile/ManayunkDevelo
 pmentCorporation
END:VEVENT
END:VCALENDAR
