BEGIN:VCALENDAR
PRODID:NingEventWidget-v1
VERSION:2.0
METHOD:PUBLISH
BEGIN:VEVENT
UID:4320450:Event:59809
DTSTAMP:20260425T234952Z
SUMMARY:Girl Scout Cookie Month in Manayunk
DESCRIPTION:The Manayunk Development Corporation is partnering with Gi
 rl Scouts of Eastern Pennsylvania to bring you WHOLE MONTH of deliciou
 s cookies. Get first dibs on exclusive cookie dishes and cocktails in 
 Manayunk bars and restaurants. Troops will be stationed along the stre
 et, so you can pick up your favorite cookies directly from Girls Scout
 s! Participating restaurants are teaming up with a troop to create a d
 elicious Girl Scout Cookie dish or cocktail with a portion of the proc
 eeds going to Girl Scouts of Eastern Pennsylvania.Every Saturday in Fe
 bruary from 11AM-4PM, troops will be set up at retail shops on Main St
 reet to sell their cookies and learn about entrepreneurship from femal
 e businesses owners in Manayunk. Stop by participating retail location
 s to purchase your favorite cookies!\n\nFor more information visit htt
 p://phillytodo.com/events/girl-scout-cookie-month-in-manayunk-2
DTSTART:20200201T050000Z
DTEND:20200301T045900Z
CATEGORIES:fundraising, event
LOCATION:Manayunk
WEBSITE:http://manayunk.com/events/cookie-month-in-manayunk.html
URL:http://manayunk.com/events/cookie-month-in-manayunk.html
CONTACT:2154829565
ORGANIZER;CN="Manayunk Development Corporation":http://phillytodo.com/
 profile/ManayunkDevelopmentCorporation
ATTACH;FMTTYPE="image/jpeg":https://storage.ning.com/topology/rest/1.0
 /file/get/799560393?profile=original
ATTENDEE;ROLE=REQ-PARTICIPANT;PARTSTAT=ACCEPTED;RSVP=TRUE;CN="Manayunk
  Development Corporation":http://phillytodo.com/profile/ManayunkDevelo
 pmentCorporation
END:VEVENT
END:VCALENDAR
