BEGIN:VCALENDAR
PRODID:NingEventWidget-v1
VERSION:2.0
METHOD:PUBLISH
BEGIN:VEVENT
UID:4320450:Event:57112
DTSTAMP:20260425T124001Z
SUMMARY:Girl Scout Cookie Month in Manayunk
DESCRIPTION:The Manayunk Development Corporation is partnering with G
 irl Scouts of Eastern Pennsylvania to bring you WHOLE MONTH of delici
 ous cookies. Get first dibs on exclusive cookie dishes and cocktails i
 n Manayunk bars and restaurants. Troops will be stationed along the st
 reet, so you can pick up your favorite cookies directly from Girls Sco
 uts! Participating restaurants are teaming up with a troop to create 
 a delicious Girl Scout Cookie dish or cocktail with a portion of the p
 roceeds going to Girl Scouts of Eastern Pennsylvania.Every Saturday in
  February from 11AM-4PM, troops will be set up at retail shops on Main
  Street to sell their cookies and learn about entrepreneurship from fe
 male businesses owners in Manayunk. Stop by participating retail locat
 ions to purchase your favorite cookies!\n\nFor more information visit 
 http://phillytodo.com/events/girl-scout-cookie-month-in-manayunk-1
DTSTART:20190202T160000Z
DTEND:20190223T210000Z
CATEGORIES:shopping, girl, scouts, business, cookie, cocktails
LOCATION:Manayunk
WEBSITE:http://manayunk.com/events/cookie-month-in-manayunk.html
URL:http://manayunk.com/events/cookie-month-in-manayunk.html
CONTACT:2154829565
ORGANIZER;CN="Manayunk Development Corporation":http://phillytodo.com/
 profile/ManayunkDevelopmentCorporation
ATTACH;FMTTYPE="image/jpeg":https://storage.ning.com/topology/rest/1.0
 /file/get/799560393?profile=original
ATTENDEE;ROLE=REQ-PARTICIPANT;PARTSTAT=ACCEPTED;RSVP=TRUE;CN="Manayunk
  Development Corporation":http://phillytodo.com/profile/ManayunkDevelo
 pmentCorporation
END:VEVENT
END:VCALENDAR
