BEGIN:VCALENDAR
PRODID:NingEventWidget-v1
VERSION:2.0
METHOD:PUBLISH
BEGIN:VEVENT
UID:4320450:Event:59706
DTSTAMP:20260425T142557Z
SUMMARY:Giants of the Forest
DESCRIPTION:During this guided hike, we’ll see some of the biggest t
 rees in our forest—some over 13’ around! Learn how to identify the
 se trees based on their winter characteristics, such as shape and bark
  pattern. As we walk past old fields and ruins of 19th-century homeste
 ads, you’ll hear about the history of the land and how human use has
  influenced our forest. If there is snow cover on the ground, wear war
 m boots or snowshoes. A limited number of snowshoes are available for 
 members to borrow. Registration is appreciated.\n\nFor more informatio
 n visit http://phillytodo.com/events/giants-of-the-forest-1
DTSTART:20200111T180000Z
DTEND:20200111T203000Z
CATEGORIES:hike
LOCATION:the Schuylkill Center
WEBSITE:http://www.schuylkillcenter.org/blog/event/giants-of-the-fores
 t-6/
URL:http://www.schuylkillcenter.org/blog/event/giants-of-the-forest-6/
CONTACT:
ORGANIZER;CN="The Schuylkill Center":http://phillytodo.com/profile/Ann
 aLehrMueser
ATTACH;FMTTYPE="image/jpeg":
ATTENDEE;ROLE=REQ-PARTICIPANT;PARTSTAT=ACCEPTED;RSVP=TRUE;CN="The Schu
 ylkill Center":http://phillytodo.com/profile/AnnaLehrMueser
END:VEVENT
END:VCALENDAR
