BEGIN:VCALENDAR
PRODID:NingEventWidget-v1
VERSION:2.0
METHOD:PUBLISH
BEGIN:VEVENT
UID:4320450:Event:31725
DTSTAMP:20260425T174156Z
SUMMARY:Giant Outdoor Vinatge Flea Market
DESCRIPTION:More Than 100 Vendors Featuring Antiques, Collectibles, Vi
 ntage Furniture, Jewelry, Clothing & Accessories, Glassware, Pottery, 
 and Great Food!\n\nFor more information visit http://phillytodo.com/ev
 ents/giant-outdoor-vinatge-flea-market
DTSTART:20130413T120000Z
DTEND:20130413T210000Z
CATEGORIES:shoppping
LOCATION:Across from the Inquirer Building, Center City
WEBSITE:http://www.philafleamarkets.org/
URL:http://www.philafleamarkets.org/
CONTACT:
ORGANIZER:
ATTACH;FMTTYPE="image/jpeg":
ATTENDEE;ROLE=REQ-PARTICIPANT;PARTSTAT=ACCEPTED;RSVP=TRUE;CN="Cindy Fi
 gueroa @ceefig":http://phillytodo.com/profile/CindyFigueroa
END:VEVENT
END:VCALENDAR
